Workbook

Sheet Rekapitulace stavby
A1: Export Komplet | BA1: 2.0 | BB1: ZAMOK | BT1: False | BU1: False | BV1: {6f773087-7a15-497a-8882-26011691a10b}
BS2: 0,01 | BT2: 21
BS3: 0,01 | BT3: 12
D4: REKAPITULACE STAVBY | AS4: v --- níže se nacházejí doplnkové a pomocné údaje k sestavám --- v | BE4: Návod na vyplnění | BS4: 0,001
D5: Kód: | K5: 1232-25 | BE5: Měnit lze pouze buňky se žlutým podbarvením!_x000d_ _x000d_ 1) na prvním listu Rekapitulace stavby vyplňte v sestavě_x000d_ _x000d_ a) Souhrnný list_x000d_ - údaje o Uchazeči_x000d_ (přenesou se do ostatních sestav i v jiných listech)_x000d_ _x000d_ b) Rekapitulace objektů_x000d_ - potřebné Ostatní náklady_x000d_ _x000d_ 2) na vybraných listech vyplňte v sestavě_x000d_ _x000d_ a) Krycí list_x000d_ - údaje o Uchazeči, pokud se liší od údajů o Uchazeči na Souhrnném listu_x000d_ (údaje se přenesou do ostatních sestav v daném listu)_x000d_ _x000d_ b) Rekapitulace rozpočtu_x000d_ - potřebné Ostatní náklady_x000d_ _x000d_ c) Celkové náklady za stavbu_x000d_ - ceny u položek_x000d_ - množství, pokud má žluté podbarvení_x000d_ - a v případě potřeby poznámku (ta je ve skrytém sloupci) | BS5: 0,01
D6: Stavba: | K6: Rekonstrukce ČSOV Zeleneč | BS6: 0,01
D7: KSO: | AK7: CC-CZ: | BS7: 0,01
D8: Místo: | K8: ulice Olšová, Zeleneč | AK8: Datum: | AN8: 19. 10. 2025 | BS8: 0,01
BS9: 0,01
D10: Zadavatel: | AK10: IČ: | AN10: 00241041 | BS10: 0,01
E11: OBEC ZELENEČ | AK11: DIČ: | AN11: CZ00241041 | BS11: 0,01
BS12: 0,01
D13: Uchazeč: | AK13: IČ: | AN13: Vyplň údaj | BS13: 0,01
E14: Vyplň údaj | AK14: DIČ: | AN14: Vyplň údaj | BS14: 0,01
BS15: False
D16: Projektant: | AK16: IČ: | BS16: False
AK17: DIČ: | BS17: True
BS18: 0,01
D19: Zpracovatel: | AK19: IČ: | AN19: 62585193 | BS19: 0,01
E20: ERMEX ENGINEERING, spol. s r.o. | AK20: DIČ: | AN20: CZ62585193 | BS20: True
D22: Poznámka:
E23: Soupis prací je sestaven s využitím Cenové soustavy ÚRS. Položky, které pochází z této cenové soustavy, jsou ve sloupci 'Cenová soustava' označeny popisem 'CS ÚRS' a úrovní příslušného kalendářního pololetí. Veškeré další informace vymezující popis a podmínky použití těchto položek z Cenové soustavy, které nejsou uvedeny přímo v soupisu prací, jsou neomezeně dálkově k dispozici na www.cs-urs.cz, sekce Cenové a technické podmínky. Projektant upozorňuje, že cena v KR je platná k datu vydání dokumnentace. Projektant upozorňuje, že ceníkové ceny dle sazebníku URS nemusí odpovídat cenám obvyklím v místě realizace stavby a reálná hodnota se může být vyšší než uvádí KR. Je-li v názvu položky v kontrolním rozpočtu nebo v soupisu prací uvedena v kolonce „Popis“ obchodní značka jakéhokoliv materiálu, výrobku nebo technologie, má tento název pouze informativní charakter. Pro ocenění a následně pro realizaci je možné použít i jiný materiál, výrobek nebo technologii, se srovnatelnými nebo lepšími užitnými vlastnostmi, které odpovídají požadavkům dokumentace. _x000d_ Přesná specifikace materiálu a prací je uvedena v zadávací dokumentaci, která tvoří nedílnou součást rozpočtu. Specifikace materiálů a postupu prací, která je uvedena v technických zprávách, soupisech prací či jinde v zadávací dokumentaci má přednost před popisem položky v rozpočtu (Položky URS nemusí vždy přesně odpovídat požadovanému provedení)
D26: Cena bez DPH | AK26: =ROUND(AG94,2) -> 0
L28: Sazba daně | W28: Základ daně | AK28: Výše daně
D29: DPH | F29: základní | L29: 0.21 | W29: =ROUND(AZ94, 2) -> 0 | AK29: =ROUND(AV94, 2) -> 0
F30: snížená | L30: 0.12 | W30: =ROUND(BA94, 2) -> 0 | AK30: =ROUND(AW94, 2) -> 0
F31: zákl. přenesená | L31: 0.21 | W31: =ROUND(BB94, 2) -> 0 | AK31: 0
F32: sníž. přenesená | L32: 0.12 | W32: =ROUND(BC94, 2) -> 0 | AK32: 0
F33: nulová | L33: 0 | W33: =ROUND(BD94, 2) -> 0 | AK33: 0
D35: Cena s DPH | T35: v | X35: CZK | AK35: =SUM(AK26:AK33) -> 0
D49: Projektant | AH49: Zpracovatel
D60: Datum a podpis: | V60: Razítko | AH60: Datum a podpis: | AM60: Razítko
D64: Objednavatel | AH64: Uchazeč
D75: Datum a podpis: | V75: Razítko | AH75: Datum a podpis: | AM75: Razítko
C82: REKAPITULACE OBJEKTŮ STAVBY A SOUPISŮ PRACÍ
C84: Kód: | L84: =K5 -> 1232-25
C85: Stavba: | L85: =K6 -> Rekonstrukce ČSOV Zeleneč
C87: Místo: | L87: =IF(K8="","",K8) -> ulice Olšová, Zeleneč | AI87: Datum: | AM87: =IF(AN8= "","",AN8) -> 19. 10. 2025
C89: Zadavatel: | L89: =IF(E11= "","",E11) -> OBEC ZELENEČ | AI89: Projektant: | AM89: =IF(E17="","",E17) | AS89: Informatívní údaje z listů zakázek
C90: Uchazeč: | L90: =IF(E14= "Vyplň údaj","",E14) | AI90: Zpracovatel: | AM90: =IF(E20="","",E20) -> ERMEX ENGINEERING, spol. s r.o.
...

Sheet PS01 - Technologická část
AT2: {aeabcf02-9baf-4770-a9b7-61346b8a0b3e}
AT3: 2
D4: KRYCÍ LIST SOUPISU PRACÍ | M4: v --- níže se nacházejí doplnkové a pomocné údaje k sestavám --- v | AT4: False
D6: Stavba:
E7: ='Rekapitulace stavby'!K6 -> Rekonstrukce ČSOV Zeleneč
D8: Objekt:
E9: PS01 - Technologická část
D11: KSO: | I11: CC-CZ:
D12: Místo: | F12: ulice Olšová, Zeleneč | I12: Datum: | J12: ='Rekapitulace stavby'!AN8 -> 19. 10. 2025
D14: Zadavatel: | I14: IČ: | J14: 00241041
E15: OBEC ZELENEČ | I15: DIČ: | J15: CZ00241041
D17: Uchazeč: | I17: IČ: | J17: ='Rekapitulace stavby'!AN13 -> Vyplň údaj
E18: ='Rekapitulace stavby'!E14 -> Vyplň údaj | I18: DIČ: | J18: ='Rekapitulace stavby'!AN14 -> Vyplň údaj
D20: Projektant: | I20: IČ: | J20: =IF('Rekapitulace stavby'!AN16="","",'Rekapitulace stavby'!AN16)
E21: =IF('Rekapitulace stavby'!E17="","",'Rekapitulace stavby'!E17) | I21: DIČ: | J21: =IF('Rekapitulace stavby'!AN17="","",'Rekapitulace stavby'!AN17)
D23: Zpracovatel: | I23: IČ: | J23: 62585193
E24: ERMEX ENGINEERING, spol. s r.o. | I24: DIČ: | J24: CZ62585193
D26: Poznámka:
E27: Soupis prací je sestaven s využitím Cenové soustavy ÚRS. Položky, které pochází z této cenové soustavy, jsou ve sloupci 'Cenová soustava' označeny popisem 'CS ÚRS' a úrovní příslušného kalendářního pololetí. Veškeré další informace vymezující popis a podmínky použití těchto položek z Cenové soustavy, které nejsou uvedeny přímo v soupisu prací, jsou neomezeně dálkově k dispozici na www.cs-urs.cz, sekce Cenové a technické podmínky. Projektant upozorňuje, že cena v KR je platná k datu vydání dokumnentace. Projektant upozorňuje, že ceníkové ceny dle sazebníku URS nemusí odpovídat cenám obvyklím v místě realizace stavby a reálná hodnota se může být vyšší než uvádí KR. Je-li v názvu položky v kontrolním rozpočtu nebo v soupisu prací uvedena v kolonce „Popis“ obchodní značka jakéhokoliv materiálu, výrobku nebo technologie, má tento název pouze informativní charakter. Pro ocenění a následně pro realizaci je možné použít i jiný materiál, výrobek nebo technologii, se srovnatelnými nebo lepšími užitnými vlastnostmi, které odpovídají požadavkům dokumentace. Přesná specifikace materiálu a prací je uvedena v zadávací dokumentaci, která tvoří nedílnou součást rozpočtu. Specifikace materiálů a postupu prací, která je uvedena v technických zprávách, soupisech prací či jinde v zadávací dokumentaci má přednost před popisem položky v rozpočtu (Položky URS nemusí vždy přesně odpovídat požadovanému provedení)
D30: Cena bez DPH | J30: =ROUND(J128, 2) -> 0
F32: Základ daně | I32: Sazba daně | J32: Výše daně
D33: DPH | E33: základní | F33: =ROUND((SUM(BE128:BE412)), 2) -> 0 | I33: 0.21 | J33: =ROUND(((SUM(BE128:BE412))*I33), 2) -> 0
E34: snížená | F34: =ROUND((SUM(BF128:BF412)), 2) -> 0 | I34: 0.12 | J34: =ROUND(((SUM(BF128:BF412))*I34), 2) -> 0
E35: zákl. přenesená | F35: =ROUND((SUM(BG128:BG412)), 2) -> 0 | I35: 0.21 | J35: =0 -> 0
E36: sníž. přenesená | F36: =ROUND((SUM(BH128:BH412)), 2) -> 0 | I36: 0.12 | J36: =0 -> 0
E37: nulová | F37: =ROUND((SUM(BI128:BI412)), 2) -> 0 | I37: 0 | J37: =0 -> 0
D39: Cena s DPH | G39: v | H39: CZK | J39: =SUM(J30:J37) -> 0
D50: Projektant | G50: Zpracovatel
D61: Datum a podpis: | F61: Razítko | G61: Datum a podpis: | J61: Razítko
D65: Objednavatel | G65: Uchazeč
D76: Datum a podpis: | F76: Razítko | G76: Datum a podpis: | J76: Razítko
C82: REKAPITULACE ČLENĚNÍ SOUPISU PRACÍ
C84: Stavba:
E85: =E7 -> Rekonstrukce ČSOV Zeleneč
C86: Objekt:
E87: =E9 -> PS01 - Technologická část
C89: Místo: | F89: =F12 -> ulice Olšová, Zeleneč | I89: Datum: | J89: =IF(J12="","",J12) -> 19. 10. 2025
C91: Zadavatel: | F91: =E15 -> OBEC ZELENEČ | I91: Projektant: | J91: =E21
C92: Uchazeč: | F92: =IF(E18="","",E18) -> Vyplň údaj | I92: Zpracovatel: | J92: =E24 -> ERMEX ENGINEERING, spol. s r.o.
C94: Kód dílu - Popis | J94: Cena celkem [CZK]
...

Sheet PS02 - Elektroinstalce a MaR
AT2: {12252c95-b78b-4acb-8686-8427a695e892}
AT3: 2
D4: KRYCÍ LIST SOUPISU PRACÍ | M4: v --- níže se nacházejí doplnkové a pomocné údaje k sestavám --- v | AT4: False
D6: Stavba:
E7: ='Rekapitulace stavby'!K6 -> Rekonstrukce ČSOV Zeleneč
D8: Objekt:
E9: PS02 - Elektroinstalce a MaR
D11: KSO: | I11: CC-CZ:
D12: Místo: | F12: ulice Olšová, Zeleneč | I12: Datum: | J12: ='Rekapitulace stavby'!AN8 -> 19. 10. 2025
D14: Zadavatel: | I14: IČ: | J14: 00241041
E15: OBEC ZELENEČ | I15: DIČ: | J15: CZ00241041
D17: Uchazeč: | I17: IČ: | J17: ='Rekapitulace stavby'!AN13 -> Vyplň údaj
E18: ='Rekapitulace stavby'!E14 -> Vyplň údaj | I18: DIČ: | J18: ='Rekapitulace stavby'!AN14 -> Vyplň údaj
D20: Projektant: | I20: IČ: | J20: =IF('Rekapitulace stavby'!AN16="","",'Rekapitulace stavby'!AN16)
E21: =IF('Rekapitulace stavby'!E17="","",'Rekapitulace stavby'!E17) | I21: DIČ: | J21: =IF('Rekapitulace stavby'!AN17="","",'Rekapitulace stavby'!AN17)
D23: Zpracovatel: | I23: IČ: | J23: 62585193
E24: ERMEX ENGINEERING, spol. s r.o. | I24: DIČ: | J24: CZ62585193
D26: Poznámka:
E27: Soupis prací je sestaven s využitím Cenové soustavy ÚRS. Položky, které pochází z této cenové soustavy, jsou ve sloupci 'Cenová soustava' označeny popisem 'CS ÚRS' a úrovní příslušného kalendářního pololetí. Veškeré další informace vymezující popis a podmínky použití těchto položek z Cenové soustavy, které nejsou uvedeny přímo v soupisu prací, jsou neomezeně dálkově k dispozici na www.cs-urs.cz, sekce Cenové a technické podmínky. Projektant upozorňuje, že cena v KR je platná k datu vydání dokumnentace. Projektant upozorňuje, že ceníkové ceny dle sazebníku URS nemusí odpovídat cenám obvyklím v místě realizace stavby a reálná hodnota se může být vyšší než uvádí KR. Je-li v názvu položky v kontrolním rozpočtu nebo v soupisu prací uvedena v kolonce „Popis“ obchodní značka jakéhokoliv materiálu, výrobku nebo technologie, má tento název pouze informativní charakter. Pro ocenění a následně pro realizaci je možné použít i jiný materiál, výrobek nebo technologii, se srovnatelnými nebo lepšími užitnými vlastnostmi, které odpovídají požadavkům dokumentace. Přesná specifikace materiálu a prací je uvedena v zadávací dokumentaci, která tvoří nedílnou součást rozpočtu. Specifikace materiálů a postupu prací, která je uvedena v technických zprávách, soupisech prací či jinde v zadávací dokumentaci má přednost před popisem položky v rozpočtu (Položky URS nemusí vždy přesně odpovídat požadovanému provedení)
D30: Cena bez DPH | J30: =ROUND(J118, 2) -> 0
F32: Základ daně | I32: Sazba daně | J32: Výše daně
D33: DPH | E33: základní | F33: =ROUND((SUM(BE118:BE202)), 2) -> 0 | I33: 0.21 | J33: =ROUND(((SUM(BE118:BE202))*I33), 2) -> 0
E34: snížená | F34: =ROUND((SUM(BF118:BF202)), 2) -> 0 | I34: 0.12 | J34: =ROUND(((SUM(BF118:BF202))*I34), 2) -> 0
E35: zákl. přenesená | F35: =ROUND((SUM(BG118:BG202)), 2) -> 0 | I35: 0.21 | J35: =0 -> 0
E36: sníž. přenesená | F36: =ROUND((SUM(BH118:BH202)), 2) -> 0 | I36: 0.12 | J36: =0 -> 0
E37: nulová | F37: =ROUND((SUM(BI118:BI202)), 2) -> 0 | I37: 0 | J37: =0 -> 0
D39: Cena s DPH | G39: v | H39: CZK | J39: =SUM(J30:J37) -> 0
D50: Projektant | G50: Zpracovatel
D61: Datum a podpis: | F61: Razítko | G61: Datum a podpis: | J61: Razítko
D65: Objednavatel | G65: Uchazeč
D76: Datum a podpis: | F76: Razítko | G76: Datum a podpis: | J76: Razítko
C82: REKAPITULACE ČLENĚNÍ SOUPISU PRACÍ
C84: Stavba:
E85: =E7 -> Rekonstrukce ČSOV Zeleneč
C86: Objekt:
E87: =E9 -> PS02 - Elektroinstalce a MaR
C89: Místo: | F89: =F12 -> ulice Olšová, Zeleneč | I89: Datum: | J89: =IF(J12="","",J12) -> 19. 10. 2025
C91: Zadavatel: | F91: =E15 -> OBEC ZELENEČ | I91: Projektant: | J91: =E21
C92: Uchazeč: | F92: =IF(E18="","",E18) -> Vyplň údaj | I92: Zpracovatel: | J92: =E24 -> ERMEX ENGINEERING, spol. s r.o.
C94: Kód dílu - Popis | J94: Cena celkem [CZK]
...

Sheet SO01 - Stavebně konstrukč...
AT2: {ef932f73-a885-40d2-953c-068aaea550d1}
AT3: 2
D4: KRYCÍ LIST SOUPISU PRACÍ | M4: v --- níže se nacházejí doplnkové a pomocné údaje k sestavám --- v | AT4: False
D6: Stavba:
E7: ='Rekapitulace stavby'!K6 -> Rekonstrukce ČSOV Zeleneč
D8: Objekt:
E9: SO01 - Stavebně konstrukční řešení
D11: KSO: | I11: CC-CZ:
D12: Místo: | F12: ulice Olšová, Zeleneč | I12: Datum: | J12: ='Rekapitulace stavby'!AN8 -> 19. 10. 2025
D14: Zadavatel: | I14: IČ: | J14: 00241041
E15: OBEC ZELENEČ | I15: DIČ: | J15: CZ00241041
D17: Uchazeč: | I17: IČ: | J17: ='Rekapitulace stavby'!AN13 -> Vyplň údaj
E18: ='Rekapitulace stavby'!E14 -> Vyplň údaj | I18: DIČ: | J18: ='Rekapitulace stavby'!AN14 -> Vyplň údaj
D20: Projektant: | I20: IČ: | J20: =IF('Rekapitulace stavby'!AN16="","",'Rekapitulace stavby'!AN16)
E21: =IF('Rekapitulace stavby'!E17="","",'Rekapitulace stavby'!E17) | I21: DIČ: | J21: =IF('Rekapitulace stavby'!AN17="","",'Rekapitulace stavby'!AN17)
D23: Zpracovatel: | I23: IČ: | J23: 62585193
E24: ERMEX ENGINEERING, spol. s r.o. | I24: DIČ: | J24: CZ62585193
D26: Poznámka:
E27: Soupis prací je sestaven s využitím Cenové soustavy ÚRS. Položky, které pochází z této cenové soustavy, jsou ve sloupci 'Cenová soustava' označeny popisem 'CS ÚRS' a úrovní příslušného kalendářního pololetí. Veškeré další informace vymezující popis a podmínky použití těchto položek z Cenové soustavy, které nejsou uvedeny přímo v soupisu prací, jsou neomezeně dálkově k dispozici na www.cs-urs.cz, sekce Cenové a technické podmínky. Projektant upozorňuje, že cena v KR je platná k datu vydání dokumnentace. Projektant upozorňuje, že ceníkové ceny dle sazebníku URS nemusí odpovídat cenám obvyklím v místě realizace stavby a reálná hodnota se může být vyšší než uvádí KR. Je-li v názvu položky v kontrolním rozpočtu nebo v soupisu prací uvedena v kolonce „Popis“ obchodní značka jakéhokoliv materiálu, výrobku nebo technologie, má tento název pouze informativní charakter. Pro ocenění a následně pro realizaci je možné použít i jiný materiál, výrobek nebo technologii, se srovnatelnými nebo lepšími užitnými vlastnostmi, které odpovídají požadavkům dokumentace. Přesná specifikace materiálu a prací je uvedena v zadávací dokumentaci, která tvoří nedílnou součást rozpočtu. Specifikace materiálů a postupu prací, která je uvedena v technických zprávách, soupisech prací či jinde v zadávací dokumentaci má přednost před popisem položky v rozpočtu (Položky URS nemusí vždy přesně odpovídat požadovanému provedení)
D30: Cena bez DPH | J30: =ROUND(J129, 2) -> 0
F32: Základ daně | I32: Sazba daně | J32: Výše daně
D33: DPH | E33: základní | F33: =ROUND((SUM(BE129:BE262)), 2) -> 0 | I33: 0.21 | J33: =ROUND(((SUM(BE129:BE262))*I33), 2) -> 0
E34: snížená | F34: =ROUND((SUM(BF129:BF262)), 2) -> 0 | I34: 0.12 | J34: =ROUND(((SUM(BF129:BF262))*I34), 2) -> 0
E35: zákl. přenesená | F35: =ROUND((SUM(BG129:BG262)), 2) -> 0 | I35: 0.21 | J35: =0 -> 0
E36: sníž. přenesená | F36: =ROUND((SUM(BH129:BH262)), 2) -> 0 | I36: 0.12 | J36: =0 -> 0
E37: nulová | F37: =ROUND((SUM(BI129:BI262)), 2) -> 0 | I37: 0 | J37: =0 -> 0
D39: Cena s DPH | G39: v | H39: CZK | J39: =SUM(J30:J37) -> 0
D50: Projektant | G50: Zpracovatel
D61: Datum a podpis: | F61: Razítko | G61: Datum a podpis: | J61: Razítko
D65: Objednavatel | G65: Uchazeč
D76: Datum a podpis: | F76: Razítko | G76: Datum a podpis: | J76: Razítko
C82: REKAPITULACE ČLENĚNÍ SOUPISU PRACÍ
C84: Stavba:
E85: =E7 -> Rekonstrukce ČSOV Zeleneč
C86: Objekt:
E87: =E9 -> SO01 - Stavebně konstrukční řešení
C89: Místo: | F89: =F12 -> ulice Olšová, Zeleneč | I89: Datum: | J89: =IF(J12="","",J12) -> 19. 10. 2025
C91: Zadavatel: | F91: =E15 -> OBEC ZELENEČ | I91: Projektant: | J91: =E21
C92: Uchazeč: | F92: =IF(E18="","",E18) -> Vyplň údaj | I92: Zpracovatel: | J92: =E24 -> ERMEX ENGINEERING, spol. s r.o.
C94: Kód dílu - Popis | J94: Cena celkem [CZK]
...

Sheet VRN - Vedleleší rozpočtov...
AT2: {64841d8c-8596-4c31-8f3b-adff54bd96bd}
AT3: 2
D4: KRYCÍ LIST SOUPISU PRACÍ | M4: v --- níže se nacházejí doplnkové a pomocné údaje k sestavám --- v | AT4: False
D6: Stavba:
E7: ='Rekapitulace stavby'!K6 -> Rekonstrukce ČSOV Zeleneč
D8: Objekt:
E9: VRN - Vedleleší rozpočtové náklady
D11: KSO: | I11: CC-CZ:
D12: Místo: | F12: ulice Olšová, Zeleneč | I12: Datum: | J12: ='Rekapitulace stavby'!AN8 -> 19. 10. 2025
D14: Zadavatel: | I14: IČ: | J14: 00241041
E15: OBEC ZELENEČ | I15: DIČ: | J15: CZ00241041
D17: Uchazeč: | I17: IČ: | J17: ='Rekapitulace stavby'!AN13 -> Vyplň údaj
E18: ='Rekapitulace stavby'!E14 -> Vyplň údaj | I18: DIČ: | J18: ='Rekapitulace stavby'!AN14 -> Vyplň údaj
D20: Projektant: | I20: IČ: | J20: =IF('Rekapitulace stavby'!AN16="","",'Rekapitulace stavby'!AN16)
E21: =IF('Rekapitulace stavby'!E17="","",'Rekapitulace stavby'!E17) | I21: DIČ: | J21: =IF('Rekapitulace stavby'!AN17="","",'Rekapitulace stavby'!AN17)
D23: Zpracovatel: | I23: IČ: | J23: 62585193
E24: ERMEX ENGINEERING, spol. s r.o. | I24: DIČ: | J24: CZ62585193
D26: Poznámka:
E27: Soupis prací je sestaven s využitím Cenové soustavy ÚRS. Položky, které pochází z této cenové soustavy, jsou ve sloupci 'Cenová soustava' označeny popisem 'CS ÚRS' a úrovní příslušného kalendářního pololetí. Veškeré další informace vymezující popis a podmínky použití těchto položek z Cenové soustavy, které nejsou uvedeny přímo v soupisu prací, jsou neomezeně dálkově k dispozici na www.cs-urs.cz, sekce Cenové a technické podmínky. Projektant upozorňuje, že cena v KR je platná k datu vydání dokumnentace. Projektant upozorňuje, že ceníkové ceny dle sazebníku URS nemusí odpovídat cenám obvyklím v místě realizace stavby a reálná hodnota se může být vyšší než uvádí KR. Je-li v názvu položky v kontrolním rozpočtu nebo v soupisu prací uvedena v kolonce „Popis“ obchodní značka jakéhokoliv materiálu, výrobku nebo technologie, má tento název pouze informativní charakter. Pro ocenění a následně pro realizaci je možné použít i jiný materiál, výrobek nebo technologii, se srovnatelnými nebo lepšími užitnými vlastnostmi, které odpovídají požadavkům dokumentace. Přesná specifikace materiálu a prací je uvedena v zadávací dokumentaci, která tvoří nedílnou součást rozpočtu. Specifikace materiálů a postupu prací, která je uvedena v technických zprávách, soupisech prací či jinde v zadávací dokumentaci má přednost před popisem položky v rozpočtu (Položky URS nemusí vždy přesně odpovídat požadovanému provedení)
D30: Cena bez DPH | J30: =ROUND(J120, 2) -> 0
F32: Základ daně | I32: Sazba daně | J32: Výše daně
D33: DPH | E33: základní | F33: =ROUND((SUM(BE120:BE127)), 2) -> 0 | I33: 0.21 | J33: =ROUND(((SUM(BE120:BE127))*I33), 2) -> 0
E34: snížená | F34: =ROUND((SUM(BF120:BF127)), 2) -> 0 | I34: 0.12 | J34: =ROUND(((SUM(BF120:BF127))*I34), 2) -> 0
E35: zákl. přenesená | F35: =ROUND((SUM(BG120:BG127)), 2) -> 0 | I35: 0.21 | J35: =0 -> 0
E36: sníž. přenesená | F36: =ROUND((SUM(BH120:BH127)), 2) -> 0 | I36: 0.12 | J36: =0 -> 0
E37: nulová | F37: =ROUND((SUM(BI120:BI127)), 2) -> 0 | I37: 0 | J37: =0 -> 0
D39: Cena s DPH | G39: v | H39: CZK | J39: =SUM(J30:J37) -> 0
D50: Projektant | G50: Zpracovatel
D61: Datum a podpis: | F61: Razítko | G61: Datum a podpis: | J61: Razítko
D65: Objednavatel | G65: Uchazeč
D76: Datum a podpis: | F76: Razítko | G76: Datum a podpis: | J76: Razítko
C82: REKAPITULACE ČLENĚNÍ SOUPISU PRACÍ
C84: Stavba:
E85: =E7 -> Rekonstrukce ČSOV Zeleneč
C86: Objekt:
E87: =E9 -> VRN - Vedleleší rozpočtové náklady
C89: Místo: | F89: =F12 -> ulice Olšová, Zeleneč | I89: Datum: | J89: =IF(J12="","",J12) -> 19. 10. 2025
C91: Zadavatel: | F91: =E15 -> OBEC ZELENEČ | I91: Projektant: | J91: =E21
C92: Uchazeč: | F92: =IF(E18="","",E18) -> Vyplň údaj | I92: Zpracovatel: | J92: =E24 -> ERMEX ENGINEERING, spol. s r.o.
C94: Kód dílu - Popis | J94: Cena celkem [CZK]
...

Sheet ON - Ostatní náklady
AT2: {e1a036b7-7d5c-4d97-87c9-c081a500efcc}
AT3: 2
D4: KRYCÍ LIST SOUPISU PRACÍ | M4: v --- níže se nacházejí doplnkové a pomocné údaje k sestavám --- v | AT4: False
D6: Stavba:
E7: ='Rekapitulace stavby'!K6 -> Rekonstrukce ČSOV Zeleneč
D8: Objekt:
E9: ON - Ostatní náklady
D11: KSO: | I11: CC-CZ:
D12: Místo: | F12: ulice Olšová, Zeleneč | I12: Datum: | J12: ='Rekapitulace stavby'!AN8 -> 19. 10. 2025
D14: Zadavatel: | I14: IČ: | J14: 00241041
E15: OBEC ZELENEČ | I15: DIČ: | J15: CZ00241041
D17: Uchazeč: | I17: IČ: | J17: ='Rekapitulace stavby'!AN13 -> Vyplň údaj
E18: ='Rekapitulace stavby'!E14 -> Vyplň údaj | I18: DIČ: | J18: ='Rekapitulace stavby'!AN14 -> Vyplň údaj
D20: Projektant: | I20: IČ: | J20: =IF('Rekapitulace stavby'!AN16="","",'Rekapitulace stavby'!AN16)
E21: =IF('Rekapitulace stavby'!E17="","",'Rekapitulace stavby'!E17) | I21: DIČ: | J21: =IF('Rekapitulace stavby'!AN17="","",'Rekapitulace stavby'!AN17)
D23: Zpracovatel: | I23: IČ: | J23: 62585193
E24: ERMEX ENGINEERING, spol. s r.o. | I24: DIČ: | J24: CZ62585193
D26: Poznámka:
E27: Soupis prací je sestaven s využitím Cenové soustavy ÚRS. Položky, které pochází z této cenové soustavy, jsou ve sloupci 'Cenová soustava' označeny popisem 'CS ÚRS' a úrovní příslušného kalendářního pololetí. Veškeré další informace vymezující popis a podmínky použití těchto položek z Cenové soustavy, které nejsou uvedeny přímo v soupisu prací, jsou neomezeně dálkově k dispozici na www.cs-urs.cz, sekce Cenové a technické podmínky. Projektant upozorňuje, že cena v KR je platná k datu vydání dokumnentace. Projektant upozorňuje, že ceníkové ceny dle sazebníku URS nemusí odpovídat cenám obvyklím v místě realizace stavby a reálná hodnota se může být vyšší než uvádí KR. Je-li v názvu položky v kontrolním rozpočtu nebo v soupisu prací uvedena v kolonce „Popis“ obchodní značka jakéhokoliv materiálu, výrobku nebo technologie, má tento název pouze informativní charakter. Pro ocenění a následně pro realizaci je možné použít i jiný materiál, výrobek nebo technologii, se srovnatelnými nebo lepšími užitnými vlastnostmi, které odpovídají požadavkům dokumentace. Přesná specifikace materiálu a prací je uvedena v zadávací dokumentaci, která tvoří nedílnou součást rozpočtu. Specifikace materiálů a postupu prací, která je uvedena v technických zprávách, soupisech prací či jinde v zadávací dokumentaci má přednost před popisem položky v rozpočtu (Položky URS nemusí vždy přesně odpovídat požadovanému provedení)
D30: Cena bez DPH | J30: =ROUND(J120, 2) -> 0
F32: Základ daně | I32: Sazba daně | J32: Výše daně
D33: DPH | E33: základní | F33: =ROUND((SUM(BE120:BE131)), 2) -> 0 | I33: 0.21 | J33: =ROUND(((SUM(BE120:BE131))*I33), 2) -> 0
E34: snížená | F34: =ROUND((SUM(BF120:BF131)), 2) -> 0 | I34: 0.12 | J34: =ROUND(((SUM(BF120:BF131))*I34), 2) -> 0
E35: zákl. přenesená | F35: =ROUND((SUM(BG120:BG131)), 2) -> 0 | I35: 0.21 | J35: =0 -> 0
E36: sníž. přenesená | F36: =ROUND((SUM(BH120:BH131)), 2) -> 0 | I36: 0.12 | J36: =0 -> 0
E37: nulová | F37: =ROUND((SUM(BI120:BI131)), 2) -> 0 | I37: 0 | J37: =0 -> 0
D39: Cena s DPH | G39: v | H39: CZK | J39: =SUM(J30:J37) -> 0
D50: Projektant | G50: Zpracovatel
D61: Datum a podpis: | F61: Razítko | G61: Datum a podpis: | J61: Razítko
D65: Objednavatel | G65: Uchazeč
D76: Datum a podpis: | F76: Razítko | G76: Datum a podpis: | J76: Razítko
C82: REKAPITULACE ČLENĚNÍ SOUPISU PRACÍ
C84: Stavba:
E85: =E7 -> Rekonstrukce ČSOV Zeleneč
C86: Objekt:
E87: =E9 -> ON - Ostatní náklady
C89: Místo: | F89: =F12 -> ulice Olšová, Zeleneč | I89: Datum: | J89: =IF(J12="","",J12) -> 19. 10. 2025
C91: Zadavatel: | F91: =E15 -> OBEC ZELENEČ | I91: Projektant: | J91: =E21
C92: Uchazeč: | F92: =IF(E18="","",E18) -> Vyplň údaj | I92: Zpracovatel: | J92: =E24 -> ERMEX ENGINEERING, spol. s r.o.
C94: Kód dílu - Popis | J94: Cena celkem [CZK]
...
