Workbook

Sheet Rekapitulace stavby
A1: Export Komplet | BA1: 2.0 | BB1: ZAMOK | BT1: False | BU1: False | BV1: {6f773087-7a15-497a-8882-26011691a10b}
BS2: 0,01 | BT2: 21
BS3: 0,01 | BT3: 12
D4: REKAPITULACE STAVBY | AS4: v --- níže se nacházejí doplnkové a pomocné údaje k sestavám --- v | BE4: Návod na vyplnění | BS4: 0,001
D5: Kód: | K5: 1232-25 | BE5: Měnit lze pouze buňky se žlutým podbarvením!_x000d_ _x000d_ 1) na prvním listu Rekapitulace stavby vyplňte v sestavě_x000d_ _x000d_ a) Souhrnný list_x000d_ - údaje o Uchazeči_x000d_ (přenesou se do ostatních sestav i v jiných listech)_x000d_ _x000d_ b) Rekapitulace objektů_x000d_ - potřebné Ostatní náklady_x000d_ _x000d_ 2) na vybraných listech vyplňte v sestavě_x000d_ _x000d_ a) Krycí list_x000d_ - údaje o Uchazeči, pokud se liší od údajů o Uchazeči na Souhrnném listu_x000d_ (údaje se přenesou do ostatních sestav v daném listu)_x000d_ _x000d_ b) Rekapitulace rozpočtu_x000d_ - potřebné Ostatní náklady_x000d_ _x000d_ c) Celkové náklady za stavbu_x000d_ - ceny u položek_x000d_ - množství, pokud má žluté podbarvení_x000d_ - a v případě potřeby poznámku (ta je ve skrytém sloupci) | BS5: 0,01
D6: Stavba: | K6: Rekonstrukce ČSOV Zeleneč | BS6: 0,01
D7: KSO: | AK7: CC-CZ: | BS7: 0,01
D8: Místo: | K8: ulice Olšová, Zeleneč | AK8: Datum: | AN8: 19. 10. 2025 | BS8: 0,01
BS9: 0,01
D10: Zadavatel: | AK10: IČ: | AN10: 00241041 | BS10: 0,01
E11: OBEC ZELENEČ | AK11: DIČ: | AN11: CZ00241041 | BS11: 0,01
BS12: 0,01
D13: Uchazeč: | AK13: IČ: | AN13: Vyplň údaj | BS13: 0,01
E14: Vyplň údaj | AK14: DIČ: | AN14: Vyplň údaj | BS14: 0,01
BS15: False
D16: Projektant: | AK16: IČ: | BS16: False
AK17: DIČ: | BS17: True
BS18: 0,01
D19: Zpracovatel: | AK19: IČ: | AN19: 62585193 | BS19: 0,01
E20: ERMEX ENGINEERING, spol. s r.o. | AK20: DIČ: | AN20: CZ62585193 | BS20: True
D22: Poznámka:
E23: Soupis prací je sestaven s využitím Cenové soustavy ÚRS. Položky, které pochází z této cenové soustavy, jsou ve sloupci 'Cenová soustava' označeny popisem 'CS ÚRS' a úrovní příslušného kalendářního pololetí. Veškeré další informace vymezující popis a podmínky použití těchto položek z Cenové soustavy, které nejsou uvedeny přímo v soupisu prací, jsou neomezeně dálkově k dispozici na www.cs-urs.cz, sekce Cenové a technické podmínky. Projektant upozorňuje, že cena v KR je platná k datu vydání dokumnentace. Projektant upozorňuje, že ceníkové ceny dle sazebníku URS nemusí odpovídat cenám obvyklím v místě realizace stavby a reálná hodnota se může být vyšší než uvádí KR. Je-li v názvu položky v kontrolním rozpočtu nebo v soupisu prací uvedena v kolonce „Popis“ obchodní značka jakéhokoliv materiálu, výrobku nebo technologie, má tento název pouze informativní charakter. Pro ocenění a následně pro realizaci je možné použít i jiný materiál, výrobek nebo technologii, se srovnatelnými nebo lepšími užitnými vlastnostmi, které odpovídají požadavkům dokumentace. _x000d_ Přesná specifikace materiálu a prací je uvedena v zadávací dokumentaci, která tvoří nedílnou součást rozpočtu. Specifikace materiálů a postupu prací, která je uvedena v technických zprávách, soupisech prací či jinde v zadávací dokumentaci má přednost před popisem položky v rozpočtu (Položky URS nemusí vždy přesně odpovídat požadovanému provedení)
D26: Cena bez DPH | AK26: =ROUND(AG94,2) -> 0
L28: Sazba daně | W28: Základ daně | AK28: Výše daně
D29: DPH | F29: základní | L29: 0.21 | W29: =ROUND(AZ94, 2) -> 0 | AK29: =ROUND(AV94, 2) -> 0
F30: snížená | L30: 0.12 | W30: =ROUND(BA94, 2) -> 0 | AK30: =ROUND(AW94, 2) -> 0
F31: zákl. přenesená | L31: 0.21 | W31: =ROUND(BB94, 2) -> 0 | AK31: 0
F32: sníž. přenesená | L32: 0.12 | W32: =ROUND(BC94, 2) -> 0 | AK32: 0
F33: nulová | L33: 0 | W33: =ROUND(BD94, 2) -> 0 | AK33: 0
D35: Cena s DPH | T35: v | X35: CZK | AK35: =SUM(AK26:AK33) -> 0
D49: Projektant | AH49: Zpracovatel
D60: Datum a podpis: | V60: Razítko | AH60: Datum a podpis: | AM60: Razítko
D64: Objednavatel | AH64: Uchazeč
D75: Datum a podpis: | V75: Razítko | AH75: Datum a podpis: | AM75: Razítko
C82: REKAPITULACE OBJEKTŮ STAVBY A SOUPISŮ PRACÍ
C84: Kód: | L84: =K5 -> 1232-25
C85: Stavba: | L85: =K6 -> Rekonstrukce ČSOV Zeleneč
C87: Místo: | L87: =IF(K8="","",K8) -> ulice Olšová, Zeleneč | AI87: Datum: | AM87: =IF(AN8= "","",AN8) -> 19. 10. 2025
C89: Zadavatel: | L89: =IF(E11= "","",E11) -> OBEC ZELENEČ | AI89: Projektant: | AM89: =IF(E17="","",E17) | AS89: Informatívní údaje z listů zakázek
C90: Uchazeč: | L90: =IF(E14= "Vyplň údaj","",E14) | AI90: Zpracovatel: | AM90: =IF(E20="","",E20) -> ERMEX ENGINEERING, spol. s r.o.
C92: Kód | I92: Popis | AG92: Cena bez DPH [CZK] | AN92: Cena s DPH [CZK] | AQ92: Typ | AS92: z toho Ostat._x000d_ náklady [CZK] | AT92: DPH [CZK] | AU92: Normohodiny [h] | AV92: DPH základní [CZK] | AW92: DPH snížená [CZK] | AX92: DPH základní přenesená_x000d_ [CZK] | AY92: DPH snížená přenesená_x000d_ [CZK] | AZ92: Základna_x000d_ DPH základní | BA92: Základna_x000d_ DPH snížená | BB92: Základna_x000d_ DPH zákl. přenesená | BC92: Základna_x000d_ DPH sníž. přenesená | BD92: Základna_x000d_ DPH nulová
C94: Náklady z rozpočtů | AG94: =ROUND(SUM(AG95:AG99),2) -> 0 | AN94: =SUM(AG94,AT94) -> 0 | AS94: =ROUND(SUM(AS95:AS99),2) -> 0 | AT94: =ROUND(SUM(AV94:AW94),2) -> 0 | AU94: =ROUND(SUM(AU95:AU99),5) -> 0 | AV94: =ROUND(AZ94*L29,2) -> 0 | AW94: =ROUND(BA94*L30,2) -> 0 | AX94: =ROUND(BB94*L29,2) -> 0 | AY94: =ROUND(BC94*L30,2) -> 0 | AZ94: =ROUND(SUM(AZ95:AZ99),2) -> 0 | BA94: =ROUND(SUM(BA95:BA99),2) -> 0 | BB94: =ROUND(SUM(BB95:BB99),2) -> 0 | BC94: =ROUND(SUM(BC95:BC99),2) -> 0 | BD94: =ROUND(SUM(BD95:BD99),2) -> 0 | BS94: D | BT94: 0 | BU94: ###NOIMPORT### | BV94: IMPORT | BW94: {6f773087-7a15-497a-8882-26011691a10b} | BX94: {00000000-0000-0000-0000-000000000000}
A95: / | D95: PS01 | J95: Technologická část | AG95: ='PS01 - Technologická část'!J30 -> 0 | AN95: =SUM(AG95,AT95) -> 0 | AQ95: PRO | AS95: 0 | AT95: =ROUND(SUM(AV95:AW95),2) -> 0 | AU95: ='PS01 - Technologická část'!P128 -> 0 | AV95: ='PS01 - Technologická část'!J33 -> 0 | AW95: ='PS01 - Technologická část'!J34 -> 0 | AX95: ='PS01 - Technologická část'!J35 -> 0 | AY95: ='PS01 - Technologická část'!J36 -> 0 | AZ95: ='PS01 - Technologická část'!F33 -> 0 | BA95: ='PS01 - Technologická část'!F34 -> 0 | BB95: ='PS01 - Technologická část'!F35 -> 0 | BC95: ='PS01 - Technologická část'!F36 -> 0 | BD95: ='PS01 - Technologická část'!F37 -> 0 | BT95: 1 | BV95: IMPORT | BW95: {aeabcf02-9baf-4770-a9b7-61346b8a0b3e} | BX95: {6f773087-7a15-497a-8882-26011691a10b} | CM95: 2
A96: / | D96: PS02 | J96: Elektroinstalce a MaR | AG96: ='PS02 - Elektroinstalce a MaR'!J30 -> 0 | AN96: =SUM(AG96,AT96) -> 0 | AQ96: STA | AS96: 0 | AT96: =ROUND(SUM(AV96:AW96),2) -> 0 | AU96: ='PS02 - Elektroinstalce a MaR'!P118 -> 0 | AV96: ='PS02 - Elektroinstalce a MaR'!J33 -> 0 | AW96: ='PS02 - Elektroinstalce a MaR'!J34 -> 0 | AX96: ='PS02 - Elektroinstalce a MaR'!J35 -> 0 | AY96: ='PS02 - Elektroinstalce a MaR'!J36 -> 0 | AZ96: ='PS02 - Elektroinstalce a MaR'!F33 -> 0 | BA96: ='PS02 - Elektroinstalce a MaR'!F34 -> 0 | BB96: ='PS02 - Elektroinstalce a MaR'!F35 -> 0 | BC96: ='PS02 - Elektroinstalce a MaR'!F36 -> 0 | BD96: ='PS02 - Elektroinstalce a MaR'!F37 -> 0 | BT96: 1 | BV96: IMPORT | BW96: {12252c95-b78b-4acb-8686-8427a695e892} | BX96: {6f773087-7a15-497a-8882-26011691a10b} | CM96: 2
A97: / | D97: SO01 | J97: Stavebně konstrukční řešení | AG97: ='SO01 - Stavebně konstrukč...'!J30 -> 0 | AN97: =SUM(AG97,AT97) -> 0 | AQ97: STA | AS97: 0 | AT97: =ROUND(SUM(AV97:AW97),2) -> 0 | AU97: ='SO01 - Stavebně konstrukč...'!P129 -> 0 | AV97: ='SO01 - Stavebně konstrukč...'!J33 -> 0 | AW97: ='SO01 - Stavebně konstrukč...'!J34 -> 0 | AX97: ='SO01 - Stavebně konstrukč...'!J35 -> 0 | AY97: ='SO01 - Stavebně konstrukč...'!J36 -> 0 | AZ97: ='SO01 - Stavebně konstrukč...'!F33 -> 0 | BA97: ='SO01 - Stavebně konstrukč...'!F34 -> 0 | BB97: ='SO01 - Stavebně konstrukč...'!F35 -> 0 | BC97: ='SO01 - Stavebně konstrukč...'!F36 -> 0 | BD97: ='SO01 - Stavebně konstrukč...'!F37 -> 0 | BT97: 1 | BV97: IMPORT | BW97: {ef932f73-a885-40d2-953c-068aaea550d1} | BX97: {6f773087-7a15-497a-8882-26011691a10b} | CM97: 2
A98: / | D98: VRN | J98: Vedleleší rozpočtové náklady | AG98: ='VRN - Vedleleší rozpočtov...'!J30 -> 0 | AN98: =SUM(AG98,AT98) -> 0 | AQ98: VON | AS98: 0 | AT98: =ROUND(SUM(AV98:AW98),2) -> 0 | AU98: ='VRN - Vedleleší rozpočtov...'!P120 -> 0 | AV98: ='VRN - Vedleleší rozpočtov...'!J33 -> 0 | AW98: ='VRN - Vedleleší rozpočtov...'!J34 -> 0 | AX98: ='VRN - Vedleleší rozpočtov...'!J35 -> 0 | AY98: ='VRN - Vedleleší rozpočtov...'!J36 -> 0 | AZ98: ='VRN - Vedleleší rozpočtov...'!F33 -> 0 | BA98: ='VRN - Vedleleší rozpočtov...'!F34 -> 0 | BB98: ='VRN - Vedleleší rozpočtov...'!F35 -> 0 | BC98: ='VRN - Vedleleší rozpočtov...'!F36 -> 0 | BD98: ='VRN - Vedleleší rozpočtov...'!F37 -> 0 | BT98: 1 | BV98: IMPORT | BW98: {64841d8c-8596-4c31-8f3b-adff54bd96bd} | BX98: {6f773087-7a15-497a-8882-26011691a10b} | CM98: 2
A99: / | D99: ON | J99: Ostatní náklady | AG99: ='ON - Ostatní náklady'!J30 -> 0 | AN99: =SUM(AG99,AT99) -> 0 | AQ99: STA | AS99: 0 | AT99: =ROUND(SUM(AV99:AW99),2) -> 0 | AU99: ='ON - Ostatní náklady'!P120 -> 0 | AV99: ='ON - Ostatní náklady'!J33 -> 0 | AW99: ='ON - Ostatní náklady'!J34 -> 0 | AX99: ='ON - Ostatní náklady'!J35 -> 0 | AY99: ='ON - Ostatní náklady'!J36 -> 0 | AZ99: ='ON - Ostatní náklady'!F33 -> 0 | BA99: ='ON - Ostatní náklady'!F34 -> 0 | BB99: ='ON - Ostatní náklady'!F35 -> 0 | BC99: ='ON - Ostatní náklady'!F36 -> 0 | BD99: ='ON - Ostatní náklady'!F37 -> 0 | BT99: 1 | BV99: IMPORT | BW99: {e1a036b7-7d5c-4d97-87c9-c081a500efcc} | BX99: {6f773087-7a15-497a-8882-26011691a10b} | CM99: 2

Sheet PS01 - Technologická část
AT2: {aeabcf02-9baf-4770-a9b7-61346b8a0b3e}
AT3: 2
D4: KRYCÍ LIST SOUPISU PRACÍ | M4: v --- níže se nacházejí doplnkové a pomocné údaje k sestavám --- v | AT4: False
D6: Stavba:
E7: ='Rekapitulace stavby'!K6 -> Rekonstrukce ČSOV Zeleneč
D8: Objekt:
E9: PS01 - Technologická část
D11: KSO: | I11: CC-CZ:
D12: Místo: | F12: ulice Olšová, Zeleneč | I12: Datum: | J12: ='Rekapitulace stavby'!AN8 -> 19. 10. 2025
D14: Zadavatel: | I14: IČ: | J14: 00241041
E15: OBEC ZELENEČ | I15: DIČ: | J15: CZ00241041
D17: Uchazeč: | I17: IČ: | J17: ='Rekapitulace stavby'!AN13 -> Vyplň údaj
E18: ='Rekapitulace stavby'!E14 -> Vyplň údaj | I18: DIČ: | J18: ='Rekapitulace stavby'!AN14 -> Vyplň údaj
D20: Projektant: | I20: IČ: | J20: =IF('Rekapitulace stavby'!AN16="","",'Rekapitulace stavby'!AN16)
E21: =IF('Rekapitulace stavby'!E17="","",'Rekapitulace stavby'!E17) | I21: DIČ: | J21: =IF('Rekapitulace stavby'!AN17="","",'Rekapitulace stavby'!AN17)
D23: Zpracovatel: | I23: IČ: | J23: 62585193
E24: ERMEX ENGINEERING, spol. s r.o. | I24: DIČ: | J24: CZ62585193
D26: Poznámka:
E27: Soupis prací je sestaven s využitím Cenové soustavy ÚRS. Položky, které pochází z této cenové soustavy, jsou ve sloupci 'Cenová soustava' označeny popisem 'CS ÚRS' a úrovní příslušného kalendářního pololetí. Veškeré další informace vymezující popis a podmínky použití těchto položek z Cenové soustavy, které nejsou uvedeny přímo v soupisu prací, jsou neomezeně dálkově k dispozici na www.cs-urs.cz, sekce Cenové a technické podmínky. Projektant upozorňuje, že cena v KR je platná k datu vydání dokumnentace. Projektant upozorňuje, že ceníkové ceny dle sazebníku URS nemusí odpovídat cenám obvyklím v místě realizace stavby a reálná hodnota se může být vyšší než uvádí KR. Je-li v názvu položky v kontrolním rozpočtu nebo v soupisu prací uvedena v kolonce „Popis“ obchodní značka jakéhokoliv materiálu, výrobku nebo technologie, má tento název pouze informativní charakter. Pro ocenění a následně pro realizaci je možné použít i jiný materiál, výrobek nebo technologii, se srovnatelnými nebo lepšími užitnými vlastnostmi, které odpovídají požadavkům dokumentace. Přesná specifikace materiálu a prací je uvedena v zadávací dokumentaci, která tvoří nedílnou součást rozpočtu. Specifikace materiálů a postupu prací, která je uvedena v technických zprávách, soupisech prací či jinde v zadávací dokumentaci má přednost před popisem položky v rozpočtu (Položky URS nemusí vždy přesně odpovídat požadovanému provedení)
D30: Cena bez DPH | J30: =ROUND(J128, 2) -> 0
F32: Základ daně | I32: Sazba daně | J32: Výše daně
D33: DPH | E33: základní | F33: =ROUND((SUM(BE128:BE412)), 2) -> 0 | I33: 0.21 | J33: =ROUND(((SUM(BE128:BE412))*I33), 2) -> 0
E34: snížená | F34: =ROUND((SUM(BF128:BF412)), 2) -> 0 | I34: 0.12 | J34: =ROUND(((SUM(BF128:BF412))*I34), 2) -> 0
E35: zákl. přenesená | F35: =ROUND((SUM(BG128:BG412)), 2) -> 0 | I35: 0.21 | J35: =0 -> 0
E36: sníž. přenesená | F36: =ROUND((SUM(BH128:BH412)), 2) -> 0 | I36: 0.12 | J36: =0 -> 0
E37: nulová | F37: =ROUND((SUM(BI128:BI412)), 2) -> 0 | I37: 0 | J37: =0 -> 0
D39: Cena s DPH | G39: v | H39: CZK | J39: =SUM(J30:J37) -> 0
D50: Projektant | G50: Zpracovatel
D61: Datum a podpis: | F61: Razítko | G61: Datum a podpis: | J61: Razítko
D65: Objednavatel | G65: Uchazeč
D76: Datum a podpis: | F76: Razítko | G76: Datum a podpis: | J76: Razítko
C82: REKAPITULACE ČLENĚNÍ SOUPISU PRACÍ
C84: Stavba:
E85: =E7 -> Rekonstrukce ČSOV Zeleneč
C86: Objekt:
E87: =E9 -> PS01 - Technologická část
C89: Místo: | F89: =F12 -> ulice Olšová, Zeleneč | I89: Datum: | J89: =IF(J12="","",J12) -> 19. 10. 2025
C91: Zadavatel: | F91: =E15 -> OBEC ZELENEČ | I91: Projektant: | J91: =E21
C92: Uchazeč: | F92: =IF(E18="","",E18) -> Vyplň údaj | I92: Zpracovatel: | J92: =E24 -> ERMEX ENGINEERING, spol. s r.o.
C94: Kód dílu - Popis | J94: Cena celkem [CZK]
C96: Náklady ze soupisu prací | J96: =J128 -> 0 | AU96: -1
D97: HSV - HSV | J97: =J129 -> 0
D98: 01 - Náhradní čerpání | J98: =J130 -> 0
D99: 02 - Soupis demontáží | J99: =J148 -> 0
D100: 03 - Soupis dodávek a montáží | J100: =J174 -> 0
D101: 03-01 - Stroje a technologická zařízení | J101: =J175 -> 0
D102: 03-02 - Armatury | J102: =J194 -> 0
D103: 03-03 - Trubky a tvarovky z nerezové oceli | J103: =J216 -> 0
D104: 03-04 - Montážní materiál | J104: =J376 -> 0
D105: 03-05 - Podpěry_x000d_ | J105: =J389 -> 0
D106: 03-06 - Větrání | J106: =J392 -> 0
D107: 03-07 - Ostatní práce a dodávky_x000d_ | J107: =J400 -> 0
D108: 998 - Přesun hmot | J108: =J410 -> 0
C115: SOUPIS PRACÍ
C117: Stavba:
E118: =E7 -> Rekonstrukce ČSOV Zeleneč
C119: Objekt:
E120: =E9 -> PS01 - Technologická část
C122: Místo: | F122: =F12 -> ulice Olšová, Zeleneč | I122: Datum: | J122: =IF(J12="","",J12) -> 19. 10. 2025
C124: Zadavatel: | F124: =E15 -> OBEC ZELENEČ | I124: Projektant: | J124: =E21
C125: Uchazeč: | F125: =IF(E18="","",E18) -> Vyplň údaj | I125: Zpracovatel: | J125: =E24 -> ERMEX ENGINEERING, spol. s r.o.
C127: PČ | D127: Typ | E127: Kód | F127: Popis | G127: MJ | H127: Množství | I127: J.cena [CZK] | J127: Cena celkem [CZK] | K127: Cenová soustava | N127: DPH | O127: J. Nh [h] | P127: Nh celkem [h] | Q127: J. hmotnost [t] | R127: Hmotnost celkem [t] | S127: J. suť [t] | T127: Suť Celkem [t]
C128: Náklady soupisu celkem | J128: =BK128 -> 0 | P128: =P129 -> 0 | R128: =R129 -> 1.21435 | T128: =T129 -> 0.47895 | AT128: D | AU128: -1 | BK128: =BK129 -> 0
D129: D | E129: HSV | F129: HSV | J129: =BK129 -> 0 | P129: =P130+P148+P174+P410 -> 0 | R129: =R130+R148+R174+R410 -> 1.21435 | T129: =T130+T148+T174+T410 -> 0.47895 | AR129: 1 | AT129: D | AU129: 0 | AY129: ROZPOCET | BK129: =BK130+BK148+BK174+BK410 -> 0
D130: D | E130: 01 | F130: Náhradní čerpání | J130: =BK130 -> 0 | P130: =SUM(P131:P147) -> 0 | R130: =SUM(R131:R147) -> 0 | T130: =SUM(T131:T147) -> 0 | AR130: 1 | AT130: D | AU130: 1 | AY130: ROZPOCET | BK130: =SUM(BK131:BK147) -> 0
C131: 1 | D131: K | E131: 01-R1 | F131: Montáž zařízení náhradního čerpání | G131: ks | H131: 1 | J131: =ROUND(I131*H131,2) -> 0 | N131: základní | P131: =O131*H131 -> 0 | Q131: 0 | R131: =Q131*H131 -> 0 | S131: 0 | T131: =S131*H131 -> 0 | AR131: 4 | AT131: K | AU131: 2 | AY131: ROZPOCET | BE131: =IF(N131="základní",J131,0) -> 0 | BF131: =IF(N131="snížená",J131,0) -> 0 | BG131: =IF(N131="zákl. přenesená",J131,0) -> 0 | BH131: =IF(N131="sníž. přenesená",J131,0) -> 0 | BI131: =IF(N131="nulová",J131,0) -> 0 | BJ131: 1 | BK131: =ROUND(I131*H131,2) -> 0 | BL131: 4 | BM131: -662706232
C132: 2 | D132: K | E132: 01-R2 | F132: Pronájem zařízení náhradního čerpání po dobu provádění prací | G132: kpl | H132: 1 | J132: =ROUND(I132*H132,2) -> 0 | N132: základní | P132: =O132*H132 -> 0 | Q132: 0 | R132: =Q132*H132 -> 0 | S132: 0 | T132: =S132*H132 -> 0 | AR132: 4 | AT132: K | AU132: 2 | AY132: ROZPOCET | BE132: =IF(N132="základní",J132,0) -> 0 | BF132: =IF(N132="snížená",J132,0) -> 0 | BG132: =IF(N132="zákl. přenesená",J132,0) -> 0 | BH132: =IF(N132="sníž. přenesená",J132,0) -> 0 | BI132: =IF(N132="nulová",J132,0) -> 0 | BJ132: 1 | BK132: =ROUND(I132*H132,2) -> 0 | BL132: 4 | BM132: 2146714154
D133: VV | F133: výkaz výměr: předpoklad 4 týdny dle ZOV | AT133: VV | AU133: 2 | AV133: 1 | AW133: True | AX133: 0 | AY133: ROZPOCET
D134: VV | F134: Položka obsahuje: | AT134: VV | AU134: 2 | AV134: 1 | AW134: True | AX134: 0 | AY134: ROZPOCET
D135: VV | F135: 1 x ponorné čerpadlo pro splaškovou OV 20-24 l/s, 18-20 m v.s., | AT135: VV | AU135: 2 | AV135: 1 | AW135: True | AX135: 0 | AY135: ROZPOCET
D136: VV | F136: 1 x stojan na ponorné čerpadlo, | AT136: VV | AU136: 2 | AV136: 1 | AW136: True | AX136: 0 | AY136: ROZPOCET
D137: VV | F137: 1 x upevňovací konstrukci patkového kolene a vodicích tyčí do stávající revizní šachty na stoce DN300 průměr 1m, hloubka do 3 m, | AT137: VV | AU137: 2 | AV137: 1 | AW137: True | AX137: 0 | AY137: ROZPOCET
D138: VV | F138: 1 x tr. PE100, 110x10mm - délka do 5 m, | AT138: VV | AU138: 2 | AV138: 1 | AW138: True | AX138: 0 | AY138: ROZPOCET
D139: VV | F139: 1 x sada rozebiratelných svěrných spojek a tvarovek pro PE potrubí de110 mm, | AT139: VV | AU139: 2 | AV139: 1 | AW139: True | AX139: 0 | AY139: ROZPOCET
D140: VV | F140: 1x zpětný ventil DN100, | AT140: VV | AU140: 2 | AV140: 1 | AW140: True | AX140: 0 | AY140: ROZPOCET
D141: VV | F141: 1x uzavírací šoupě DN100, | AT141: VV | AU141: 2 | AV141: 1 | AW141: True | AX141: 0 | AY141: ROZPOCET
D142: VV | F142: 1x vyztužená hadice DN100 délka do 5 m vč. hadicových přípojek s přírubami DN100, | AT142: VV | AU142: 2 | AV142: 1 | AW142: True | AX142: 0 | AY142: ROZPOCET
D143: VV | F143: 1x těsnicí balón do nátokového potrubí DN300 | AT143: VV | AU143: 2 | AV143: 1 | AW143: True | AX143: 0 | AY143: ROZPOCET
D144: VV | F144: 1x rozvaděč s automatikou řízení chodu čerpadla a hlášením poruch provozovateli GSM modulem | AT144: VV | AU144: 2 | AV144: 1 | AW144: True | AX144: 0 | AY144: ROZPOCET
... D146: VV | F146: (provoz zařízení po dobu provádění prací zajišťuje provozovatel) | AT146: VV | AU146: 2 | AV146: 1 | AW146: True | AX146: 0 | AY146: ROZPOCET
D147: VV | F147: 1 | H147: 1 | AT147: VV | AU147: 2 | AV147: 2 | AW147: True | AX147: 1 | AY147: ROZPOCET
D148: D | E148: 02 | F148: Soupis demontáží | J148: =BK148 -> 0 | P148: =SUM(P149:P173) -> 0 | R148: =SUM(R149:R173) -> 0.00119 | T148: =SUM(T149:T173) -> 0.47895 | AR148: 1 | AT148: D | AU148: 1 | AY148: ROZPOCET | BK148: =SUM(BK149:BK173) -> 0
C149: 3 | D149: K | E149: 230082089 | F149: Demontáž potrubí do šrotu přes 10 do 50 kg D 159 mm tl 7,0 mm | G149: kus | H149: 7 | J149: =ROUND(I149*H149,2) -> 0 | N149: základní | P149: =O149*H149 -> 0 | Q149: 0.00017 | R149: =Q149*H149 -> 0.00119 | S149: 0 | T149: =S149*H149 -> 0 | AR149: 1 | AT149: K | AU149: 2 | AY149: ROZPOCET | BE149: =IF(N149="základní",J149,0) -> 0 | BF149: =IF(N149="snížená",J149,0) -> 0 | BG149: =IF(N149="zákl. přenesená",J149,0) -> 0 | BH149: =IF(N149="sníž. přenesená",J149,0) -> 0 | BI149: =IF(N149="nulová",J149,0) -> 0 | BJ149: 1 | BK149: =ROUND(I149*H149,2) -> 0 | BL149: 1 | BM149: -1362463623
D150: VV | F150: TP - DN150 | AT150: VV | AU150: 2 | AV150: 1 | AW150: True | AX150: 0 | AY150: ROZPOCET
D151: VV | F151: 3 | H151: 3 | AT151: VV | AU151: 2 | AV151: 2 | AW151: True | AX151: 0 | AY151: ROZPOCET
D152: VV | F152: K- DN150 | AT152: VV | AU152: 2 | AV152: 1 | AW152: True | AX152: 0 | AY152: ROZPOCET
D153: VV | F153: 2 | H153: 2 | AT153: VV | AU153: 2 | AV153: 2 | AW153: True | AX153: 0 | AY153: ROZPOCET
D154: VV | F154: T- DN150 | AT154: VV | AU154: 2 | AV154: 1 | AW154: True | AX154: 0 | AY154: ROZPOCET
D155: VV | F155: 2 | H155: 2 | AT155: VV | AU155: 2 | AV155: 2 | AW155: True | AX155: 0 | AY155: ROZPOCET
D156: VV | F156: Součet | H156: 7 | AT156: VV | AU156: 2 | AV156: 4 | AW156: True | AX156: 1 | AY156: ROZPOCET
C157: 4 | D157: K | E157: 891311811 | F157: Demontáž vodovodních šoupátek otevřený výkop DN 150 | G157: kus | H157: 5 | J157: =ROUND(I157*H157,2) -> 0 | N157: základní | P157: =O157*H157 -> 0 | Q157: 0 | R157: =Q157*H157 -> 0 | S157: 0.03985 | T157: =S157*H157 -> 0.19925 | AR157: 1 | AT157: K | AU157: 2 | AY157: ROZPOCET | BE157: =IF(N157="základní",J157,0) -> 0 | BF157: =IF(N157="snížená",J157,0) -> 0 | BG157: =IF(N157="zákl. přenesená",J157,0) -> 0 | BH157: =IF(N157="sníž. přenesená",J157,0) -> 0 | BI157: =IF(N157="nulová",J157,0) -> 0 | BJ157: 1 | BK157: =ROUND(I157*H157,2) -> 0 | BL157: 1 | BM157: 1060669588
D158: VV | F158: šoupě, zpětná klapka DN150 | AT158: VV | AU158: 2 | AV158: 1 | AW158: True | AX158: 0 | AY158: ROZPOCET
D159: VV | F159: 5 | H159: 5 | AT159: VV | AU159: 2 | AV159: 2 | AW159: True | AX159: 1 | AY159: ROZPOCET
C160: 5 | D160: K | E160: 850245921 | F160: Výřez nebo výsek na potrubí z trub litinových tlakových DN 80 při opravách | G160: kus | H160: 8 | J160: =ROUND(I160*H160,2) -> 0 | N160: základní | P160: =O160*H160 -> 0 | Q160: 0 | R160: =Q160*H160 -> 0 | S160: 0 | T160: =S160*H160 -> 0 | AR160: 1 | AT160: K | AU160: 2 | AY160: ROZPOCET | BE160: =IF(N160="základní",J160,0) -> 0 | BF160: =IF(N160="snížená",J160,0) -> 0 | BG160: =IF(N160="zákl. přenesená",J160,0) -> 0 | BH160: =IF(N160="sníž. přenesená",J160,0) -> 0 | BI160: =IF(N160="nulová",J160,0) -> 0 | BJ160: 1 | BK160: =ROUND(I160*H160,2) -> 0 | BL160: 1 | BM160: 298711329
D161: VV | F161: demontáž vodících tyčí a patkového kolene stávajícího čerpadla | AT161: VV | AU161: 2 | AV161: 1 | AW161: True | AX161: 0 | AY161: ROZPOCET
D162: VV | F162: 4*2 | H162: 8 | AT162: VV | AU162: 2 | AV162: 2 | AW162: True | AX162: 1 | AY162: ROZPOCET
C163: 6 | D163: K | E163: 850315921 | F163: Výřez nebo výsek na potrubí z trub litinových tlakových DN 150 při opravách | G163: kus | H163: 7 | J163: =ROUND(I163*H163,2) -> 0 | N163: základní | P163: =O163*H163 -> 0 | Q163: 0 | R163: =Q163*H163 -> 0 | S163: 0 | T163: =S163*H163 -> 0 | AR163: 1 | AT163: K | AU163: 2 | AY163: ROZPOCET | BE163: =IF(N163="základní",J163,0) -> 0 | BF163: =IF(N163="snížená",J163,0) -> 0 | BG163: =IF(N163="zákl. přenesená",J163,0) -> 0 | BH163: =IF(N163="sníž. přenesená",J163,0) -> 0 | BI163: =IF(N163="nulová",J163,0) -> 0 | BJ163: 1 | BK163: =ROUND(I163*H163,2) -> 0 | BL163: 1 | BM163: -1482941378
D164: VV | F164: Demontáž ocelového potrubí DN150 | AT164: VV | AU164: 2 | AV164: 1 | AW164: True | AX164: 0 | AY164: ROZPOCET
D165: VV | F165: dělení na 1m kus | AT165: VV | AU165: 2 | AV165: 1 | AW165: True | AX165: 0 | AY165: ROZPOCET
D166: VV | F166: 7/1 | H166: 7 | AT166: VV | AU166: 2 | AV166: 2 | AW166: True | AX166: 1 | AY166: ROZPOCET
...

Sheet PS02 - Elektroinstalce a MaR
AT2: {12252c95-b78b-4acb-8686-8427a695e892}
AT3: 2
D4: KRYCÍ LIST SOUPISU PRACÍ | M4: v --- níže se nacházejí doplnkové a pomocné údaje k sestavám --- v | AT4: False
D6: Stavba:
E7: ='Rekapitulace stavby'!K6 -> Rekonstrukce ČSOV Zeleneč
D8: Objekt:
E9: PS02 - Elektroinstalce a MaR
D11: KSO: | I11: CC-CZ:
D12: Místo: | F12: ulice Olšová, Zeleneč | I12: Datum: | J12: ='Rekapitulace stavby'!AN8 -> 19. 10. 2025
D14: Zadavatel: | I14: IČ: | J14: 00241041
E15: OBEC ZELENEČ | I15: DIČ: | J15: CZ00241041
D17: Uchazeč: | I17: IČ: | J17: ='Rekapitulace stavby'!AN13 -> Vyplň údaj
E18: ='Rekapitulace stavby'!E14 -> Vyplň údaj | I18: DIČ: | J18: ='Rekapitulace stavby'!AN14 -> Vyplň údaj
D20: Projektant: | I20: IČ: | J20: =IF('Rekapitulace stavby'!AN16="","",'Rekapitulace stavby'!AN16)
E21: =IF('Rekapitulace stavby'!E17="","",'Rekapitulace stavby'!E17) | I21: DIČ: | J21: =IF('Rekapitulace stavby'!AN17="","",'Rekapitulace stavby'!AN17)
D23: Zpracovatel: | I23: IČ: | J23: 62585193
E24: ERMEX ENGINEERING, spol. s r.o. | I24: DIČ: | J24: CZ62585193
D26: Poznámka:
E27: Soupis prací je sestaven s využitím Cenové soustavy ÚRS. Položky, které pochází z této cenové soustavy, jsou ve sloupci 'Cenová soustava' označeny popisem 'CS ÚRS' a úrovní příslušného kalendářního pololetí. Veškeré další informace vymezující popis a podmínky použití těchto položek z Cenové soustavy, které nejsou uvedeny přímo v soupisu prací, jsou neomezeně dálkově k dispozici na www.cs-urs.cz, sekce Cenové a technické podmínky. Projektant upozorňuje, že cena v KR je platná k datu vydání dokumnentace. Projektant upozorňuje, že ceníkové ceny dle sazebníku URS nemusí odpovídat cenám obvyklím v místě realizace stavby a reálná hodnota se může být vyšší než uvádí KR. Je-li v názvu položky v kontrolním rozpočtu nebo v soupisu prací uvedena v kolonce „Popis“ obchodní značka jakéhokoliv materiálu, výrobku nebo technologie, má tento název pouze informativní charakter. Pro ocenění a následně pro realizaci je možné použít i jiný materiál, výrobek nebo technologii, se srovnatelnými nebo lepšími užitnými vlastnostmi, které odpovídají požadavkům dokumentace. Přesná specifikace materiálu a prací je uvedena v zadávací dokumentaci, která tvoří nedílnou součást rozpočtu. Specifikace materiálů a postupu prací, která je uvedena v technických zprávách, soupisech prací či jinde v zadávací dokumentaci má přednost před popisem položky v rozpočtu (Položky URS nemusí vždy přesně odpovídat požadovanému provedení)
D30: Cena bez DPH | J30: =ROUND(J118, 2) -> 0
F32: Základ daně | I32: Sazba daně | J32: Výše daně
D33: DPH | E33: základní | F33: =ROUND((SUM(BE118:BE202)), 2) -> 0 | I33: 0.21 | J33: =ROUND(((SUM(BE118:BE202))*I33), 2) -> 0
E34: snížená | F34: =ROUND((SUM(BF118:BF202)), 2) -> 0 | I34: 0.12 | J34: =ROUND(((SUM(BF118:BF202))*I34), 2) -> 0
E35: zákl. přenesená | F35: =ROUND((SUM(BG118:BG202)), 2) -> 0 | I35: 0.21 | J35: =0 -> 0
E36: sníž. přenesená | F36: =ROUND((SUM(BH118:BH202)), 2) -> 0 | I36: 0.12 | J36: =0 -> 0
E37: nulová | F37: =ROUND((SUM(BI118:BI202)), 2) -> 0 | I37: 0 | J37: =0 -> 0
D39: Cena s DPH | G39: v | H39: CZK | J39: =SUM(J30:J37) -> 0
D50: Projektant | G50: Zpracovatel
D61: Datum a podpis: | F61: Razítko | G61: Datum a podpis: | J61: Razítko
D65: Objednavatel | G65: Uchazeč
D76: Datum a podpis: | F76: Razítko | G76: Datum a podpis: | J76: Razítko
C82: REKAPITULACE ČLENĚNÍ SOUPISU PRACÍ
C84: Stavba:
E85: =E7 -> Rekonstrukce ČSOV Zeleneč
C86: Objekt:
E87: =E9 -> PS02 - Elektroinstalce a MaR
C89: Místo: | F89: =F12 -> ulice Olšová, Zeleneč | I89: Datum: | J89: =IF(J12="","",J12) -> 19. 10. 2025
C91: Zadavatel: | F91: =E15 -> OBEC ZELENEČ | I91: Projektant: | J91: =E21
C92: Uchazeč: | F92: =IF(E18="","",E18) -> Vyplň údaj | I92: Zpracovatel: | J92: =E24 -> ERMEX ENGINEERING, spol. s r.o.
C94: Kód dílu - Popis | J94: Cena celkem [CZK]
C96: Náklady ze soupisu prací | J96: =J118 -> 0 | AU96: -1
D97: OST - Ostatní | J97: =J119 -> 0
D98: O01 - Ostatní | J98: =J120 -> 0
C105: SOUPIS PRACÍ
C107: Stavba:
E108: =E7 -> Rekonstrukce ČSOV Zeleneč
C109: Objekt:
E110: =E9 -> PS02 - Elektroinstalce a MaR
C112: Místo: | F112: =F12 -> ulice Olšová, Zeleneč | I112: Datum: | J112: =IF(J12="","",J12) -> 19. 10. 2025
C114: Zadavatel: | F114: =E15 -> OBEC ZELENEČ | I114: Projektant: | J114: =E21
C115: Uchazeč: | F115: =IF(E18="","",E18) -> Vyplň údaj | I115: Zpracovatel: | J115: =E24 -> ERMEX ENGINEERING, spol. s r.o.
C117: PČ | D117: Typ | E117: Kód | F117: Popis | G117: MJ | H117: Množství | I117: J.cena [CZK] | J117: Cena celkem [CZK] | K117: Cenová soustava | N117: DPH | O117: J. Nh [h] | P117: Nh celkem [h] | Q117: J. hmotnost [t] | R117: Hmotnost celkem [t] | S117: J. suť [t] | T117: Suť Celkem [t]
C118: Náklady soupisu celkem | J118: =BK118 -> 0 | P118: =P119 -> 0 | R118: =R119 -> 0 | T118: =T119 -> 0 | AT118: D | AU118: -1 | BK118: =BK119 -> 0
D119: D | E119: OST | F119: Ostatní | J119: =BK119 -> 0 | P119: =P120 -> 0 | R119: =R120 -> 0 | T119: =T120 -> 0 | AR119: 4 | AT119: D | AU119: 0 | AY119: ROZPOCET | BK119: =BK120 -> 0
D120: D | E120: O01 | F120: Ostatní | J120: =BK120 -> 0 | P120: =SUM(P121:P202) -> 0 | R120: =SUM(R121:R202) -> 0 | T120: =SUM(T121:T202) -> 0 | AR120: 4 | AT120: D | AU120: 1 | AY120: ROZPOCET | BK120: =SUM(BK121:BK202) -> 0
C121: 1 | D121: K | E121: ELR1 | F121: Polyesterová skříň nástěnná na zeď, 636x847x300mm, plné dveře, plný montážní montážní panel, tříbodový zámek, dveřní zarážka, příslušenství skříně, IP min. 54, údaje a vystrojení viz příloha D-2.2.3 | G121: ks | H121: 1 | J121: =ROUND(I121*H121,2) -> 0 | N121: základní | P121: =O121*H121 -> 0 | Q121: 0 | R121: =Q121*H121 -> 0 | S121: 0 | T121: =S121*H121 -> 0 | AR121: 512 | AT121: K | AU121: 2 | AY121: ROZPOCET | BE121: =IF(N121="základní",J121,0) -> 0 | BF121: =IF(N121="snížená",J121,0) -> 0 | BG121: =IF(N121="zákl. přenesená",J121,0) -> 0 | BH121: =IF(N121="sníž. přenesená",J121,0) -> 0 | BI121: =IF(N121="nulová",J121,0) -> 0 | BJ121: 1 | BK121: =ROUND(I121*H121,2) -> 0 | BL121: 512 | BM121: -436275292
C122: 2 | D122: K | E122: ELR2 | F122: Výzbroj - příslušenství sestavy skříní | G122: soupr. | H122: 1 | J122: =ROUND(I122*H122,2) -> 0 | N122: základní | P122: =O122*H122 -> 0 | Q122: 0 | R122: =Q122*H122 -> 0 | S122: 0 | T122: =S122*H122 -> 0 | AR122: 512 | AT122: K | AU122: 2 | AY122: ROZPOCET | BE122: =IF(N122="základní",J122,0) -> 0 | BF122: =IF(N122="snížená",J122,0) -> 0 | BG122: =IF(N122="zákl. přenesená",J122,0) -> 0 | BH122: =IF(N122="sníž. přenesená",J122,0) -> 0 | BI122: =IF(N122="nulová",J122,0) -> 0 | BJ122: 1 | BK122: =ROUND(I122*H122,2) -> 0 | BL122: 512 | BM122: -1948407298
C123: 3 | D123: K | E123: ELR3 | F123: Přepínač trojpólový na lištu 32A/400V, 3 polohy "síť-0-náhradní zdroj" | G123: ks | H123: 1 | J123: =ROUND(I123*H123,2) -> 0 | N123: základní | P123: =O123*H123 -> 0 | Q123: 0 | R123: =Q123*H123 -> 0 | S123: 0 | T123: =S123*H123 -> 0 | AR123: 512 | AT123: K | AU123: 2 | AY123: ROZPOCET | BE123: =IF(N123="základní",J123,0) -> 0 | BF123: =IF(N123="snížená",J123,0) -> 0 | BG123: =IF(N123="zákl. přenesená",J123,0) -> 0 | BH123: =IF(N123="sníž. přenesená",J123,0) -> 0 | BI123: =IF(N123="nulová",J123,0) -> 0 | BJ123: 1 | BK123: =ROUND(I123*H123,2) -> 0 | BL123: 512 | BM123: 567779531
C124: 4 | D124: K | E124: ELR4 | F124: Odpínač otočný trojpólový 2 polohy, 12A/400V, pom. kontakt 1/0, IP65, vč. štítku na dveře | G124: ks | H124: 1 | J124: =ROUND(I124*H124,2) -> 0 | N124: základní | P124: =O124*H124 -> 0 | Q124: 0 | R124: =Q124*H124 -> 0 | S124: 0 | T124: =S124*H124 -> 0 | AR124: 512 | AT124: K | AU124: 2 | AY124: ROZPOCET | BE124: =IF(N124="základní",J124,0) -> 0 | BF124: =IF(N124="snížená",J124,0) -> 0 | BG124: =IF(N124="zákl. přenesená",J124,0) -> 0 | BH124: =IF(N124="sníž. přenesená",J124,0) -> 0 | BI124: =IF(N124="nulová",J124,0) -> 0 | BJ124: 1 | BK124: =ROUND(I124*H124,2) -> 0 | BL124: 512 | BM124: -1241526546
C125: 5 | D125: K | E125: ELR5 | F125: Přívodka přístrojová 32A/400V, IP67, 3P+N+PE | G125: ks | H125: 1 | J125: =ROUND(I125*H125,2) -> 0 | N125: základní | P125: =O125*H125 -> 0 | Q125: 0 | R125: =Q125*H125 -> 0 | S125: 0 | T125: =S125*H125 -> 0 | AR125: 512 | AT125: K | AU125: 2 | AY125: ROZPOCET | BE125: =IF(N125="základní",J125,0) -> 0 | BF125: =IF(N125="snížená",J125,0) -> 0 | BG125: =IF(N125="zákl. přenesená",J125,0) -> 0 | BH125: =IF(N125="sníž. přenesená",J125,0) -> 0 | BI125: =IF(N125="nulová",J125,0) -> 0 | BJ125: 1 | BK125: =ROUND(I125*H125,2) -> 0 | BL125: 512 | BM125: -387798239
C126: 6 | D126: K | E126: ELR6 | F126: Ekvipotenciální svorkovnice typ 1 na omítku, vč. krytu | G126: ks | H126: 1 | J126: =ROUND(I126*H126,2) -> 0 | N126: základní | P126: =O126*H126 -> 0 | Q126: 0 | R126: =Q126*H126 -> 0 | S126: 0 | T126: =S126*H126 -> 0 | AR126: 512 | AT126: K | AU126: 2 | AY126: ROZPOCET | BE126: =IF(N126="základní",J126,0) -> 0 | BF126: =IF(N126="snížená",J126,0) -> 0 | BG126: =IF(N126="zákl. přenesená",J126,0) -> 0 | BH126: =IF(N126="sníž. přenesená",J126,0) -> 0 | BI126: =IF(N126="nulová",J126,0) -> 0 | BJ126: 1 | BK126: =ROUND(I126*H126,2) -> 0 | BL126: 512 | BM126: 1437183038
C127: 7 | D127: K | E127: ELR7 | F127: Kombinovaný svodič přepětí 1. a 2. stupně, 20 kA (10/350) + 80 kA (10/350), kombinovaný svodič B+C, dálková signalizace | G127: ks | H127: 1 | J127: =ROUND(I127*H127,2) -> 0 | N127: základní | P127: =O127*H127 -> 0 | Q127: 0 | R127: =Q127*H127 -> 0 | S127: 0 | T127: =S127*H127 -> 0 | AR127: 512 | AT127: K | AU127: 2 | AY127: ROZPOCET | BE127: =IF(N127="základní",J127,0) -> 0 | BF127: =IF(N127="snížená",J127,0) -> 0 | BG127: =IF(N127="zákl. přenesená",J127,0) -> 0 | BH127: =IF(N127="sníž. přenesená",J127,0) -> 0 | BI127: =IF(N127="nulová",J127,0) -> 0 | BJ127: 1 | BK127: =ROUND(I127*H127,2) -> 0 | BL127: 512 | BM127: 1442138198
C128: 8 | D128: K | E128: ELR8 | F128: Relé vyhodnocení napětí a sledu fází s dálkovou signalizací, 3x400V | G128: ks | H128: 1 | J128: =ROUND(I128*H128,2) -> 0 | N128: základní | P128: =O128*H128 -> 0 | Q128: 0 | R128: =Q128*H128 -> 0 | S128: 0 | T128: =S128*H128 -> 0 | AR128: 512 | AT128: K | AU128: 2 | AY128: ROZPOCET | BE128: =IF(N128="základní",J128,0) -> 0 | BF128: =IF(N128="snížená",J128,0) -> 0 | BG128: =IF(N128="zákl. přenesená",J128,0) -> 0 | BH128: =IF(N128="sníž. přenesená",J128,0) -> 0 | BI128: =IF(N128="nulová",J128,0) -> 0 | BJ128: 1 | BK128: =ROUND(I128*H128,2) -> 0 | BL128: 512 | BM128: -394787595
C129: 9 | D129: K | E129: ELR9 | F129: Svítidlo LED do rozváděče malé 10W/230V, 3640lm | G129: ks | H129: 1 | J129: =ROUND(I129*H129,2) -> 0 | N129: základní | P129: =O129*H129 -> 0 | Q129: 0 | R129: =Q129*H129 -> 0 | S129: 0 | T129: =S129*H129 -> 0 | AR129: 512 | AT129: K | AU129: 2 | AY129: ROZPOCET | BE129: =IF(N129="základní",J129,0) -> 0 | BF129: =IF(N129="snížená",J129,0) -> 0 | BG129: =IF(N129="zákl. přenesená",J129,0) -> 0 | BH129: =IF(N129="sníž. přenesená",J129,0) -> 0 | BI129: =IF(N129="nulová",J129,0) -> 0 | BJ129: 1 | BK129: =ROUND(I129*H129,2) -> 0 | BL129: 512 | BM129: -380716559
C130: 10 | D130: K | E130: ELR10 | F130: Dveřní kontakt na dveře rozváděče 10A | G130: ks | H130: 1 | J130: =ROUND(I130*H130,2) -> 0 | N130: základní | P130: =O130*H130 -> 0 | Q130: 0 | R130: =Q130*H130 -> 0 | S130: 0 | T130: =S130*H130 -> 0 | AR130: 512 | AT130: K | AU130: 2 | AY130: ROZPOCET | BE130: =IF(N130="základní",J130,0) -> 0 | BF130: =IF(N130="snížená",J130,0) -> 0 | BG130: =IF(N130="zákl. přenesená",J130,0) -> 0 | BH130: =IF(N130="sníž. přenesená",J130,0) -> 0 | BI130: =IF(N130="nulová",J130,0) -> 0 | BJ130: 1 | BK130: =ROUND(I130*H130,2) -> 0 | BL130: 512 | BM130: -1561951427
C131: 11 | D131: K | E131: ELR11 | F131: Termostat vestavný 0-60°C pro topení, rozpínací kontakt | G131: ks | H131: 1 | J131: =ROUND(I131*H131,2) -> 0 | N131: základní | P131: =O131*H131 -> 0 | Q131: 0 | R131: =Q131*H131 -> 0 | S131: 0 | T131: =S131*H131 -> 0 | AR131: 512 | AT131: K | AU131: 2 | AY131: ROZPOCET | BE131: =IF(N131="základní",J131,0) -> 0 | BF131: =IF(N131="snížená",J131,0) -> 0 | BG131: =IF(N131="zákl. přenesená",J131,0) -> 0 | BH131: =IF(N131="sníž. přenesená",J131,0) -> 0 | BI131: =IF(N131="nulová",J131,0) -> 0 | BJ131: 1 | BK131: =ROUND(I131*H131,2) -> 0 | BL131: 512 | BM131: -350964839
C132: 12 | D132: K | E132: ELR12 | F132: Topné těleso hlinikové na lištu, 20W/110-250V, IP20 | G132: ks | H132: 1 | J132: =ROUND(I132*H132,2) -> 0 | N132: základní | P132: =O132*H132 -> 0 | Q132: 0 | R132: =Q132*H132 -> 0 | S132: 0 | T132: =S132*H132 -> 0 | AR132: 512 | AT132: K | AU132: 2 | AY132: ROZPOCET | BE132: =IF(N132="základní",J132,0) -> 0 | BF132: =IF(N132="snížená",J132,0) -> 0 | BG132: =IF(N132="zákl. přenesená",J132,0) -> 0 | BH132: =IF(N132="sníž. přenesená",J132,0) -> 0 | BI132: =IF(N132="nulová",J132,0) -> 0 | BJ132: 1 | BK132: =ROUND(I132*H132,2) -> 0 | BL132: 512 | BM132: -1490192760
... C202: 82 | D202: K | E202: ELR83 | F202: zához kabelové rýhy 35x50cm, zem. tř.3 | G202: m | H202: 5 | J202: =ROUND(I202*H202,2) -> 0 | N202: základní | P202: =O202*H202 -> 0 | Q202: 0 | R202: =Q202*H202 -> 0 | S202: 0 | T202: =S202*H202 -> 0 | AR202: 512 | AT202: K | AU202: 2 | AY202: ROZPOCET | BE202: =IF(N202="základní",J202,0) -> 0 | BF202: =IF(N202="snížená",J202,0) -> 0 | BG202: =IF(N202="zákl. přenesená",J202,0) -> 0 | BH202: =IF(N202="sníž. přenesená",J202,0) -> 0 | BI202: =IF(N202="nulová",J202,0) -> 0 | BJ202: 1 | BK202: =ROUND(I202*H202,2) -> 0 | BL202: 512 | BM202: 1740585882

Sheet SO01 - Stavebně konstrukč...
AT2: {ef932f73-a885-40d2-953c-068aaea550d1}
AT3: 2
D4: KRYCÍ LIST SOUPISU PRACÍ | M4: v --- níže se nacházejí doplnkové a pomocné údaje k sestavám --- v | AT4: False
D6: Stavba:
E7: ='Rekapitulace stavby'!K6 -> Rekonstrukce ČSOV Zeleneč
D8: Objekt:
E9: SO01 - Stavebně konstrukční řešení
D11: KSO: | I11: CC-CZ:
D12: Místo: | F12: ulice Olšová, Zeleneč | I12: Datum: | J12: ='Rekapitulace stavby'!AN8 -> 19. 10. 2025
D14: Zadavatel: | I14: IČ: | J14: 00241041
E15: OBEC ZELENEČ | I15: DIČ: | J15: CZ00241041
D17: Uchazeč: | I17: IČ: | J17: ='Rekapitulace stavby'!AN13 -> Vyplň údaj
E18: ='Rekapitulace stavby'!E14 -> Vyplň údaj | I18: DIČ: | J18: ='Rekapitulace stavby'!AN14 -> Vyplň údaj
D20: Projektant: | I20: IČ: | J20: =IF('Rekapitulace stavby'!AN16="","",'Rekapitulace stavby'!AN16)
E21: =IF('Rekapitulace stavby'!E17="","",'Rekapitulace stavby'!E17) | I21: DIČ: | J21: =IF('Rekapitulace stavby'!AN17="","",'Rekapitulace stavby'!AN17)
D23: Zpracovatel: | I23: IČ: | J23: 62585193
E24: ERMEX ENGINEERING, spol. s r.o. | I24: DIČ: | J24: CZ62585193
D26: Poznámka:
E27: Soupis prací je sestaven s využitím Cenové soustavy ÚRS. Položky, které pochází z této cenové soustavy, jsou ve sloupci 'Cenová soustava' označeny popisem 'CS ÚRS' a úrovní příslušného kalendářního pololetí. Veškeré další informace vymezující popis a podmínky použití těchto položek z Cenové soustavy, které nejsou uvedeny přímo v soupisu prací, jsou neomezeně dálkově k dispozici na www.cs-urs.cz, sekce Cenové a technické podmínky. Projektant upozorňuje, že cena v KR je platná k datu vydání dokumnentace. Projektant upozorňuje, že ceníkové ceny dle sazebníku URS nemusí odpovídat cenám obvyklím v místě realizace stavby a reálná hodnota se může být vyšší než uvádí KR. Je-li v názvu položky v kontrolním rozpočtu nebo v soupisu prací uvedena v kolonce „Popis“ obchodní značka jakéhokoliv materiálu, výrobku nebo technologie, má tento název pouze informativní charakter. Pro ocenění a následně pro realizaci je možné použít i jiný materiál, výrobek nebo technologii, se srovnatelnými nebo lepšími užitnými vlastnostmi, které odpovídají požadavkům dokumentace. Přesná specifikace materiálu a prací je uvedena v zadávací dokumentaci, která tvoří nedílnou součást rozpočtu. Specifikace materiálů a postupu prací, která je uvedena v technických zprávách, soupisech prací či jinde v zadávací dokumentaci má přednost před popisem položky v rozpočtu (Položky URS nemusí vždy přesně odpovídat požadovanému provedení)
D30: Cena bez DPH | J30: =ROUND(J129, 2) -> 0
F32: Základ daně | I32: Sazba daně | J32: Výše daně
D33: DPH | E33: základní | F33: =ROUND((SUM(BE129:BE262)), 2) -> 0 | I33: 0.21 | J33: =ROUND(((SUM(BE129:BE262))*I33), 2) -> 0
E34: snížená | F34: =ROUND((SUM(BF129:BF262)), 2) -> 0 | I34: 0.12 | J34: =ROUND(((SUM(BF129:BF262))*I34), 2) -> 0
E35: zákl. přenesená | F35: =ROUND((SUM(BG129:BG262)), 2) -> 0 | I35: 0.21 | J35: =0 -> 0
E36: sníž. přenesená | F36: =ROUND((SUM(BH129:BH262)), 2) -> 0 | I36: 0.12 | J36: =0 -> 0
E37: nulová | F37: =ROUND((SUM(BI129:BI262)), 2) -> 0 | I37: 0 | J37: =0 -> 0
D39: Cena s DPH | G39: v | H39: CZK | J39: =SUM(J30:J37) -> 0
D50: Projektant | G50: Zpracovatel
D61: Datum a podpis: | F61: Razítko | G61: Datum a podpis: | J61: Razítko
D65: Objednavatel | G65: Uchazeč
D76: Datum a podpis: | F76: Razítko | G76: Datum a podpis: | J76: Razítko
C82: REKAPITULACE ČLENĚNÍ SOUPISU PRACÍ
C84: Stavba:
E85: =E7 -> Rekonstrukce ČSOV Zeleneč
C86: Objekt:
E87: =E9 -> SO01 - Stavebně konstrukční řešení
C89: Místo: | F89: =F12 -> ulice Olšová, Zeleneč | I89: Datum: | J89: =IF(J12="","",J12) -> 19. 10. 2025
C91: Zadavatel: | F91: =E15 -> OBEC ZELENEČ | I91: Projektant: | J91: =E21
C92: Uchazeč: | F92: =IF(E18="","",E18) -> Vyplň údaj | I92: Zpracovatel: | J92: =E24 -> ERMEX ENGINEERING, spol. s r.o.
C94: Kód dílu - Popis | J94: Cena celkem [CZK]
C96: Náklady ze soupisu prací | J96: =J129 -> 0 | AU96: -1
D97: HSV - Práce a dodávky HSV | J97: =J130 -> 0
D98: 1 - Zemní práce | J98: =J131 -> 0
D99: 3 - Svislé a kompletní konstrukce | J99: =J167 -> 0
D100: 4 - Vodorovné konstrukce | J100: =J170 -> 0
D101: 8 - Vedení trubní dálková a přípojná | J101: =J184 -> 0
D102: 9 - Ostatní konstrukce a práce, bourání | J102: =J187 -> 0
D103: 997 - Doprava suti a vybouraných hmot | J103: =J215 -> 0
D104: 998 - Přesun hmot | J104: =J223 -> 0
D105: PSV - Práce a dodávky PSV | J105: =J226 -> 0
D106: 721 - Zdravotechnika - vnitřní kanalizace | J106: =J227 -> 0
D107: 767 - Konstrukce zámečnické | J107: =J232 -> 0
D108: M - Práce a dodávky M | J108: =J258 -> 0
D109: 22-M - Montáže technologických zařízení pro dopravní stavby | J109: =J259 -> 0
C116: SOUPIS PRACÍ
C118: Stavba:
E119: =E7 -> Rekonstrukce ČSOV Zeleneč
C120: Objekt:
E121: =E9 -> SO01 - Stavebně konstrukční řešení
C123: Místo: | F123: =F12 -> ulice Olšová, Zeleneč | I123: Datum: | J123: =IF(J12="","",J12) -> 19. 10. 2025
C125: Zadavatel: | F125: =E15 -> OBEC ZELENEČ | I125: Projektant: | J125: =E21
C126: Uchazeč: | F126: =IF(E18="","",E18) -> Vyplň údaj | I126: Zpracovatel: | J126: =E24 -> ERMEX ENGINEERING, spol. s r.o.
C128: PČ | D128: Typ | E128: Kód | F128: Popis | G128: MJ | H128: Množství | I128: J.cena [CZK] | J128: Cena celkem [CZK] | K128: Cenová soustava | N128: DPH | O128: J. Nh [h] | P128: Nh celkem [h] | Q128: J. hmotnost [t] | R128: Hmotnost celkem [t] | S128: J. suť [t] | T128: Suť Celkem [t]
C129: Náklady soupisu celkem | J129: =BK129 -> 0 | P129: =P130+P226+P258 -> 0 | R129: =R130+R226+R258 -> 16.64958 | T129: =T130+T226+T258 -> 2.9836 | AT129: D | AU129: -1 | BK129: =BK130+BK226+BK258 -> 0
D130: D | E130: HSV | F130: Práce a dodávky HSV | J130: =BK130 -> 0 | P130: =P131+P167+P170+P184+P187+P215+P223 -> 0 | R130: =R131+R167+R170+R184+R187+R215+R223 -> 16.271683 | T130: =T131+T167+T170+T184+T187+T215+T223 -> 2.1136 | AR130: 1 | AT130: D | AU130: 0 | AY130: ROZPOCET | BK130: =BK131+BK167+BK170+BK184+BK187+BK215+BK223 -> 0
D131: D | E131: 1 | F131: Zemní práce | J131: =BK131 -> 0 | P131: =SUM(P132:P166) -> 0 | R131: =SUM(R132:R166) -> 8.4e-05 | T131: =SUM(T132:T166) -> 0 | AR131: 1 | AT131: D | AU131: 1 | AY131: ROZPOCET | BK131: =SUM(BK132:BK166) -> 0
C132: 1 | D132: K | E132: 111111104 | F132: Odstranění rákosu ručně | G132: m2 | H132: 7 | J132: =ROUND(I132*H132,2) -> 0 | N132: základní | P132: =O132*H132 -> 0 | Q132: 0 | R132: =Q132*H132 -> 0 | S132: 0 | T132: =S132*H132 -> 0 | AR132: 4 | AT132: K | AU132: 2 | AY132: ROZPOCET | BE132: =IF(N132="základní",J132,0) -> 0 | BF132: =IF(N132="snížená",J132,0) -> 0 | BG132: =IF(N132="zákl. přenesená",J132,0) -> 0 | BH132: =IF(N132="sníž. přenesená",J132,0) -> 0 | BI132: =IF(N132="nulová",J132,0) -> 0 | BJ132: 1 | BK132: =ROUND(I132*H132,2) -> 0 | BL132: 4 | BM132: 1508156362
D133: VV | F133: 2*3,5 | H133: 7 | AT133: VV | AU133: 2 | AV133: 2 | AW133: True | AX133: 1 | AY133: ROZPOCET
C134: 2 | D134: K | E134: 121112004 | F134: Sejmutí ornice tl vrstvy přes 200 do 250 mm ručně | G134: m2 | H134: 0.942 | J134: =ROUND(I134*H134,2) -> 0 | N134: základní | P134: =O134*H134 -> 0 | Q134: 0 | R134: =Q134*H134 -> 0 | S134: 0 | T134: =S134*H134 -> 0 | AR134: 4 | AT134: K | AU134: 2 | AY134: ROZPOCET | BE134: =IF(N134="základní",J134,0) -> 0 | BF134: =IF(N134="snížená",J134,0) -> 0 | BG134: =IF(N134="zákl. přenesená",J134,0) -> 0 | BH134: =IF(N134="sníž. přenesená",J134,0) -> 0 | BI134: =IF(N134="nulová",J134,0) -> 0 | BJ134: 1 | BK134: =ROUND(I134*H134,2) -> 0 | BL134: 4 | BM134: -243496050
D135: VV | F135: skrývka potok: | AT135: VV | AU135: 2 | AV135: 1 | AW135: True | AX135: 0 | AY135: ROZPOCET
D136: VV | F136: 1,6*(1,77+0,8)*0,2 | H136: 0.822 | AT136: VV | AU136: 2 | AV136: 2 | AW136: True | AX136: 0 | AY136: ROZPOCET
D137: VV | F137: rýha pro opravu přelivu: | AT137: VV | AU137: 2 | AV137: 1 | AW137: True | AX137: 0 | AY137: ROZPOCET
D138: VV | F138: 0,6*1*0,2 | H138: 0.12 | AT138: VV | AU138: 2 | AV138: 2 | AW138: True | AX138: 0 | AY138: ROZPOCET
D139: VV | F139: Součet | H139: 0.942 | AT139: VV | AU139: 2 | AV139: 4 | AW139: True | AX139: 1 | AY139: ROZPOCET
C140: 3 | D140: K | E140: 122311401 | F140: Vykopávky v zemníku na suchu v hornině třídy těžitelnosti II skupiny 4 ručně | G140: m3 | H140: 0.48 | J140: =ROUND(I140*H140,2) -> 0 | N140: základní | P140: =O140*H140 -> 0 | Q140: 0 | R140: =Q140*H140 -> 0 | S140: 0 | T140: =S140*H140 -> 0 | AR140: 4 | AT140: K | AU140: 2 | AY140: ROZPOCET | BE140: =IF(N140="základní",J140,0) -> 0 | BF140: =IF(N140="snížená",J140,0) -> 0 | BG140: =IF(N140="zákl. přenesená",J140,0) -> 0 | BH140: =IF(N140="sníž. přenesená",J140,0) -> 0 | BI140: =IF(N140="nulová",J140,0) -> 0 | BJ140: 1 | BK140: =ROUND(I140*H140,2) -> 0 | BL140: 4 | BM140: -1582840145
D141: VV | F141: 0,6*1*0,8 | H141: 0.48 | AT141: VV | AU141: 2 | AV141: 2 | AW141: True | AX141: 1 | AY141: ROZPOCET
C142: 4 | D142: K | E142: 122351791 | F142: Příplatek za odkopávky a prokopávky v tekoucí vodě při LTM v hornině třídy těžitelnosti II skupiny 4 | G142: m3 | H142: 0.48 | J142: =ROUND(I142*H142,2) -> 0 | N142: základní | P142: =O142*H142 -> 0 | Q142: 0 | R142: =Q142*H142 -> 0 | S142: 0 | T142: =S142*H142 -> 0 | AR142: 4 | AT142: K | AU142: 2 | AY142: ROZPOCET | BE142: =IF(N142="základní",J142,0) -> 0 | BF142: =IF(N142="snížená",J142,0) -> 0 | BG142: =IF(N142="zákl. přenesená",J142,0) -> 0 | BH142: =IF(N142="sníž. přenesená",J142,0) -> 0 | BI142: =IF(N142="nulová",J142,0) -> 0 | BJ142: 1 | BK142: =ROUND(I142*H142,2) -> 0 | BL142: 4 | BM142: 1165911520
D143: VV | F143: 0,6*1*0,8 | H143: 0.48 | AT143: VV | AU143: 2 | AV143: 2 | AW143: True | AX143: 1 | AY143: ROZPOCET
C144: 5 | D144: K | E144: 167111102 | F144: Nakládání výkopku z hornin třídy těžitelnosti II skupiny 4 a 5 ručně | G144: m3 | H144: 1.422 | J144: =ROUND(I144*H144,2) -> 0 | N144: základní | P144: =O144*H144 -> 0 | Q144: 0 | R144: =Q144*H144 -> 0 | S144: 0 | T144: =S144*H144 -> 0 | AR144: 4 | AT144: K | AU144: 2 | AY144: ROZPOCET | BE144: =IF(N144="základní",J144,0) -> 0 | BF144: =IF(N144="snížená",J144,0) -> 0 | BG144: =IF(N144="zákl. přenesená",J144,0) -> 0 | BH144: =IF(N144="sníž. přenesená",J144,0) -> 0 | BI144: =IF(N144="nulová",J144,0) -> 0 | BJ144: 1 | BK144: =ROUND(I144*H144,2) -> 0 | BL144: 4 | BM144: -1729363305
D145: VV | F145: skrývka potok: | AT145: VV | AU145: 2 | AV145: 1 | AW145: True | AX145: 0 | AY145: ROZPOCET
D146: VV | F146: 1,6*(1,77+0,8)*0,2 | H146: 0.822 | AT146: VV | AU146: 2 | AV146: 2 | AW146: True | AX146: 0 | AY146: ROZPOCET
D147: VV | F147: rýha pro opravu přelivu: | AT147: VV | AU147: 2 | AV147: 1 | AW147: True | AX147: 0 | AY147: ROZPOCET
D148: VV | F148: 0,6*1*0,2 | H148: 0.12 | AT148: VV | AU148: 2 | AV148: 2 | AW148: True | AX148: 0 | AY148: ROZPOCET
D149: VV | F149: Provedení svislého výkopu | AT149: VV | AU149: 2 | AV149: 1 | AW149: True | AX149: 0 | AY149: ROZPOCET
D150: VV | F150: 0,6*1*0,8 | H150: 0.48 | AT150: VV | AU150: 2 | AV150: 2 | AW150: True | AX150: 0 | AY150: ROZPOCET
D151: VV | F151: Součet | H151: 1.422 | AT151: VV | AU151: 2 | AV151: 4 | AW151: True | AX151: 1 | AY151: ROZPOCET
C152: 6 | D152: K | E152: 174111101 | F152: Zásyp jam, šachet rýh nebo kolem objektů sypaninou se zhutněním ručně | G152: m3 | H152: 0.48 | J152: =ROUND(I152*H152,2) -> 0 | N152: základní | P152: =O152*H152 -> 0 | Q152: 0 | R152: =Q152*H152 -> 0 | S152: 0 | T152: =S152*H152 -> 0 | AR152: 4 | AT152: K | AU152: 2 | AY152: ROZPOCET | BE152: =IF(N152="základní",J152,0) -> 0 | BF152: =IF(N152="snížená",J152,0) -> 0 | BG152: =IF(N152="zákl. přenesená",J152,0) -> 0 | BH152: =IF(N152="sníž. přenesená",J152,0) -> 0 | BI152: =IF(N152="nulová",J152,0) -> 0 | BJ152: 1 | BK152: =ROUND(I152*H152,2) -> 0 | BL152: 4 | BM152: -11849570
D153: VV | F153: Zpětný zásyp výkopovou zeminou s hutněním | AT153: VV | AU153: 2 | AV153: 1 | AW153: True | AX153: 0 | AY153: ROZPOCET
D154: VV | F154: 0,48 | H154: 0.48 | AT154: VV | AU154: 2 | AV154: 2 | AW154: True | AX154: 1 | AY154: ROZPOCET
C155: 7 | D155: K | E155: 181311103 | F155: Rozprostření ornice tl vrstvy do 200 mm v rovině nebo ve svahu do 1:5 ručně | G155: m2 | H155: 0.942 | J155: =ROUND(I155*H155,2) -> 0 | N155: základní | P155: =O155*H155 -> 0 | Q155: 0 | R155: =Q155*H155 -> 0 | S155: 0 | T155: =S155*H155 -> 0 | AR155: 4 | AT155: K | AU155: 2 | AY155: ROZPOCET | BE155: =IF(N155="základní",J155,0) -> 0 | BF155: =IF(N155="snížená",J155,0) -> 0 | BG155: =IF(N155="zákl. přenesená",J155,0) -> 0 | BH155: =IF(N155="sníž. přenesená",J155,0) -> 0 | BI155: =IF(N155="nulová",J155,0) -> 0 | BJ155: 1 | BK155: =ROUND(I155*H155,2) -> 0 | BL155: 4 | BM155: 1574175274
D156: VV | F156: skrývka potok: | AT156: VV | AU156: 2 | AV156: 1 | AW156: True | AX156: 0 | AY156: ROZPOCET
D157: VV | F157: 1,6*(1,77+0,8)*0,2 | H157: 0.822 | AT157: VV | AU157: 2 | AV157: 2 | AW157: True | AX157: 0 | AY157: ROZPOCET
D158: VV | F158: rýha pro opravu přelivu: | AT158: VV | AU158: 2 | AV158: 1 | AW158: True | AX158: 0 | AY158: ROZPOCET
D159: VV | F159: 0,6*1*0,2 | H159: 0.12 | AT159: VV | AU159: 2 | AV159: 2 | AW159: True | AX159: 0 | AY159: ROZPOCET
D160: VV | F160: Součet | H160: 0.942 | AT160: VV | AU160: 2 | AV160: 4 | AW160: True | AX160: 1 | AY160: ROZPOCET
C161: 8 | D161: K | E161: 181411133 | F161: Založení parkového trávníku výsevem pl do 1000 m2 ve svahu přes 1:2 do 1:1 | G161: m2 | H161: 4.2 | J161: =ROUND(I161*H161,2) -> 0 | N161: základní | P161: =O161*H161 -> 0 | Q161: 0 | R161: =Q161*H161 -> 0 | S161: 0 | T161: =S161*H161 -> 0 | AR161: 4 | AT161: K | AU161: 2 | AY161: ROZPOCET | BE161: =IF(N161="základní",J161,0) -> 0 | BF161: =IF(N161="snížená",J161,0) -> 0 | BG161: =IF(N161="zákl. přenesená",J161,0) -> 0 | BH161: =IF(N161="sníž. přenesená",J161,0) -> 0 | BI161: =IF(N161="nulová",J161,0) -> 0 | BJ161: 1 | BK161: =ROUND(I161*H161,2) -> 0 | BL161: 4 | BM161: 1861142316
D162: VV | F162: 2,4 | H162: 2.4 | AT162: VV | AU162: 2 | AV162: 2 | AW162: True | AX162: 0 | AY162: ROZPOCET
D163: VV | F163: 1,8 | H163: 1.8 | AT163: VV | AU163: 2 | AV163: 2 | AW163: True | AX163: 0 | AY163: ROZPOCET
D164: VV | F164: Součet | H164: 4.2 | AT164: VV | AU164: 2 | AV164: 4 | AW164: True | AX164: 1 | AY164: ROZPOCET
C165: 9 | D165: M | E165: 00572410 | F165: osivo směs travní parková | G165: kg | H165: 0.084 | J165: =ROUND(I165*H165,2) -> 0 | N165: základní | P165: =O165*H165 -> 0 | Q165: 0.001 | R165: =Q165*H165 -> 8.4e-05 | S165: 0 | T165: =S165*H165 -> 0 | AR165: 8 | AT165: M | AU165: 2 | AY165: ROZPOCET | BE165: =IF(N165="základní",J165,0) -> 0 | BF165: =IF(N165="snížená",J165,0) -> 0 | BG165: =IF(N165="zákl. přenesená",J165,0) -> 0 | BH165: =IF(N165="sníž. přenesená",J165,0) -> 0 | BI165: =IF(N165="nulová",J165,0) -> 0 | BJ165: 1 | BK165: =ROUND(I165*H165,2) -> 0 | BL165: 4 | BM165: -1691874576
...

Sheet VRN - Vedleleší rozpočtov...
AT2: {64841d8c-8596-4c31-8f3b-adff54bd96bd}
AT3: 2
D4: KRYCÍ LIST SOUPISU PRACÍ | M4: v --- níže se nacházejí doplnkové a pomocné údaje k sestavám --- v | AT4: False
D6: Stavba:
E7: ='Rekapitulace stavby'!K6 -> Rekonstrukce ČSOV Zeleneč
D8: Objekt:
E9: VRN - Vedleleší rozpočtové náklady
D11: KSO: | I11: CC-CZ:
D12: Místo: | F12: ulice Olšová, Zeleneč | I12: Datum: | J12: ='Rekapitulace stavby'!AN8 -> 19. 10. 2025
D14: Zadavatel: | I14: IČ: | J14: 00241041
E15: OBEC ZELENEČ | I15: DIČ: | J15: CZ00241041
D17: Uchazeč: | I17: IČ: | J17: ='Rekapitulace stavby'!AN13 -> Vyplň údaj
E18: ='Rekapitulace stavby'!E14 -> Vyplň údaj | I18: DIČ: | J18: ='Rekapitulace stavby'!AN14 -> Vyplň údaj
D20: Projektant: | I20: IČ: | J20: =IF('Rekapitulace stavby'!AN16="","",'Rekapitulace stavby'!AN16)
E21: =IF('Rekapitulace stavby'!E17="","",'Rekapitulace stavby'!E17) | I21: DIČ: | J21: =IF('Rekapitulace stavby'!AN17="","",'Rekapitulace stavby'!AN17)
D23: Zpracovatel: | I23: IČ: | J23: 62585193
E24: ERMEX ENGINEERING, spol. s r.o. | I24: DIČ: | J24: CZ62585193
D26: Poznámka:
E27: Soupis prací je sestaven s využitím Cenové soustavy ÚRS. Položky, které pochází z této cenové soustavy, jsou ve sloupci 'Cenová soustava' označeny popisem 'CS ÚRS' a úrovní příslušného kalendářního pololetí. Veškeré další informace vymezující popis a podmínky použití těchto položek z Cenové soustavy, které nejsou uvedeny přímo v soupisu prací, jsou neomezeně dálkově k dispozici na www.cs-urs.cz, sekce Cenové a technické podmínky. Projektant upozorňuje, že cena v KR je platná k datu vydání dokumnentace. Projektant upozorňuje, že ceníkové ceny dle sazebníku URS nemusí odpovídat cenám obvyklím v místě realizace stavby a reálná hodnota se může být vyšší než uvádí KR. Je-li v názvu položky v kontrolním rozpočtu nebo v soupisu prací uvedena v kolonce „Popis“ obchodní značka jakéhokoliv materiálu, výrobku nebo technologie, má tento název pouze informativní charakter. Pro ocenění a následně pro realizaci je možné použít i jiný materiál, výrobek nebo technologii, se srovnatelnými nebo lepšími užitnými vlastnostmi, které odpovídají požadavkům dokumentace. Přesná specifikace materiálu a prací je uvedena v zadávací dokumentaci, která tvoří nedílnou součást rozpočtu. Specifikace materiálů a postupu prací, která je uvedena v technických zprávách, soupisech prací či jinde v zadávací dokumentaci má přednost před popisem položky v rozpočtu (Položky URS nemusí vždy přesně odpovídat požadovanému provedení)
D30: Cena bez DPH | J30: =ROUND(J120, 2) -> 0
F32: Základ daně | I32: Sazba daně | J32: Výše daně
D33: DPH | E33: základní | F33: =ROUND((SUM(BE120:BE127)), 2) -> 0 | I33: 0.21 | J33: =ROUND(((SUM(BE120:BE127))*I33), 2) -> 0
E34: snížená | F34: =ROUND((SUM(BF120:BF127)), 2) -> 0 | I34: 0.12 | J34: =ROUND(((SUM(BF120:BF127))*I34), 2) -> 0
E35: zákl. přenesená | F35: =ROUND((SUM(BG120:BG127)), 2) -> 0 | I35: 0.21 | J35: =0 -> 0
E36: sníž. přenesená | F36: =ROUND((SUM(BH120:BH127)), 2) -> 0 | I36: 0.12 | J36: =0 -> 0
E37: nulová | F37: =ROUND((SUM(BI120:BI127)), 2) -> 0 | I37: 0 | J37: =0 -> 0
D39: Cena s DPH | G39: v | H39: CZK | J39: =SUM(J30:J37) -> 0
D50: Projektant | G50: Zpracovatel
D61: Datum a podpis: | F61: Razítko | G61: Datum a podpis: | J61: Razítko
D65: Objednavatel | G65: Uchazeč
D76: Datum a podpis: | F76: Razítko | G76: Datum a podpis: | J76: Razítko
C82: REKAPITULACE ČLENĚNÍ SOUPISU PRACÍ
C84: Stavba:
E85: =E7 -> Rekonstrukce ČSOV Zeleneč
C86: Objekt:
E87: =E9 -> VRN - Vedleleší rozpočtové náklady
C89: Místo: | F89: =F12 -> ulice Olšová, Zeleneč | I89: Datum: | J89: =IF(J12="","",J12) -> 19. 10. 2025
C91: Zadavatel: | F91: =E15 -> OBEC ZELENEČ | I91: Projektant: | J91: =E21
C92: Uchazeč: | F92: =IF(E18="","",E18) -> Vyplň údaj | I92: Zpracovatel: | J92: =E24 -> ERMEX ENGINEERING, spol. s r.o.
C94: Kód dílu - Popis | J94: Cena celkem [CZK]
C96: Náklady ze soupisu prací | J96: =J120 -> 0 | AU96: -1
D97: VRN - Vedlejší rozpočtové náklady | J97: =J121 -> 0
D98: VRN3 - Zařízení staveniště | J98: =J122 -> 0
D99: VRN6 - Územní vlivy | J99: =J124 -> 0
D100: VRN7 - Provozní vlivy | J100: =J126 -> 0
C107: SOUPIS PRACÍ
C109: Stavba:
E110: =E7 -> Rekonstrukce ČSOV Zeleneč
C111: Objekt:
E112: =E9 -> VRN - Vedleleší rozpočtové náklady
C114: Místo: | F114: =F12 -> ulice Olšová, Zeleneč | I114: Datum: | J114: =IF(J12="","",J12) -> 19. 10. 2025
C116: Zadavatel: | F116: =E15 -> OBEC ZELENEČ | I116: Projektant: | J116: =E21
C117: Uchazeč: | F117: =IF(E18="","",E18) -> Vyplň údaj | I117: Zpracovatel: | J117: =E24 -> ERMEX ENGINEERING, spol. s r.o.
C119: PČ | D119: Typ | E119: Kód | F119: Popis | G119: MJ | H119: Množství | I119: J.cena [CZK] | J119: Cena celkem [CZK] | K119: Cenová soustava | N119: DPH | O119: J. Nh [h] | P119: Nh celkem [h] | Q119: J. hmotnost [t] | R119: Hmotnost celkem [t] | S119: J. suť [t] | T119: Suť Celkem [t]
C120: Náklady soupisu celkem | J120: =BK120 -> 0 | P120: =P121 -> 0 | R120: =R121 -> 0 | T120: =T121 -> 0 | AT120: D | AU120: -1 | BK120: =BK121 -> 0
D121: D | E121: VRN | F121: Vedlejší rozpočtové náklady | J121: =BK121 -> 0 | P121: =P122+P124+P126 -> 0 | R121: =R122+R124+R126 -> 0 | T121: =T122+T124+T126 -> 0 | AR121: 5 | AT121: D | AU121: 0 | AY121: ROZPOCET | BK121: =BK122+BK124+BK126 -> 0
D122: D | E122: VRN3 | F122: Zařízení staveniště | J122: =BK122 -> 0 | P122: =P123 -> 0 | R122: =R123 -> 0 | T122: =T123 -> 0 | AR122: 5 | AT122: D | AU122: 1 | AY122: ROZPOCET | BK122: =BK123 -> 0
C123: 1 | D123: K | E123: 030001000 | F123: Zařízení staveniště | G123: soubor | H123: 1 | J123: =ROUND(I123*H123,2) -> 0 | N123: základní | P123: =O123*H123 -> 0 | Q123: 0 | R123: =Q123*H123 -> 0 | S123: 0 | T123: =S123*H123 -> 0 | AR123: 1024 | AT123: K | AU123: 2 | AY123: ROZPOCET | BE123: =IF(N123="základní",J123,0) -> 0 | BF123: =IF(N123="snížená",J123,0) -> 0 | BG123: =IF(N123="zákl. přenesená",J123,0) -> 0 | BH123: =IF(N123="sníž. přenesená",J123,0) -> 0 | BI123: =IF(N123="nulová",J123,0) -> 0 | BJ123: 1 | BK123: =ROUND(I123*H123,2) -> 0 | BL123: 1024 | BM123: 957929518
D124: D | E124: VRN6 | F124: Územní vlivy | J124: =BK124 -> 0 | P124: =P125 -> 0 | R124: =R125 -> 0 | T124: =T125 -> 0 | AR124: 5 | AT124: D | AU124: 1 | AY124: ROZPOCET | BK124: =BK125 -> 0
C125: 2 | D125: K | E125: 060001000 | F125: Územní vlivy | G125: soubor | H125: 1 | J125: =ROUND(I125*H125,2) -> 0 | N125: základní | P125: =O125*H125 -> 0 | Q125: 0 | R125: =Q125*H125 -> 0 | S125: 0 | T125: =S125*H125 -> 0 | AR125: 1024 | AT125: K | AU125: 2 | AY125: ROZPOCET | BE125: =IF(N125="základní",J125,0) -> 0 | BF125: =IF(N125="snížená",J125,0) -> 0 | BG125: =IF(N125="zákl. přenesená",J125,0) -> 0 | BH125: =IF(N125="sníž. přenesená",J125,0) -> 0 | BI125: =IF(N125="nulová",J125,0) -> 0 | BJ125: 1 | BK125: =ROUND(I125*H125,2) -> 0 | BL125: 1024 | BM125: 1542265711
D126: D | E126: VRN7 | F126: Provozní vlivy | J126: =BK126 -> 0 | P126: =P127 -> 0 | R126: =R127 -> 0 | T126: =T127 -> 0 | AR126: 5 | AT126: D | AU126: 1 | AY126: ROZPOCET | BK126: =BK127 -> 0
C127: 3 | D127: K | E127: 070001000 | F127: Provozní vlivy | G127: soubor | H127: 1 | J127: =ROUND(I127*H127,2) -> 0 | N127: základní | P127: =O127*H127 -> 0 | Q127: 0 | R127: =Q127*H127 -> 0 | S127: 0 | T127: =S127*H127 -> 0 | AR127: 1024 | AT127: K | AU127: 2 | AY127: ROZPOCET | BE127: =IF(N127="základní",J127,0) -> 0 | BF127: =IF(N127="snížená",J127,0) -> 0 | BG127: =IF(N127="zákl. přenesená",J127,0) -> 0 | BH127: =IF(N127="sníž. přenesená",J127,0) -> 0 | BI127: =IF(N127="nulová",J127,0) -> 0 | BJ127: 1 | BK127: =ROUND(I127*H127,2) -> 0 | BL127: 1024 | BM127: 1975313467

Sheet ON - Ostatní náklady
AT2: {e1a036b7-7d5c-4d97-87c9-c081a500efcc}
AT3: 2
D4: KRYCÍ LIST SOUPISU PRACÍ | M4: v --- níže se nacházejí doplnkové a pomocné údaje k sestavám --- v | AT4: False
D6: Stavba:
E7: ='Rekapitulace stavby'!K6 -> Rekonstrukce ČSOV Zeleneč
D8: Objekt:
E9: ON - Ostatní náklady
D11: KSO: | I11: CC-CZ:
D12: Místo: | F12: ulice Olšová, Zeleneč | I12: Datum: | J12: ='Rekapitulace stavby'!AN8 -> 19. 10. 2025
D14: Zadavatel: | I14: IČ: | J14: 00241041
E15: OBEC ZELENEČ | I15: DIČ: | J15: CZ00241041
D17: Uchazeč: | I17: IČ: | J17: ='Rekapitulace stavby'!AN13 -> Vyplň údaj
E18: ='Rekapitulace stavby'!E14 -> Vyplň údaj | I18: DIČ: | J18: ='Rekapitulace stavby'!AN14 -> Vyplň údaj
D20: Projektant: | I20: IČ: | J20: =IF('Rekapitulace stavby'!AN16="","",'Rekapitulace stavby'!AN16)
E21: =IF('Rekapitulace stavby'!E17="","",'Rekapitulace stavby'!E17) | I21: DIČ: | J21: =IF('Rekapitulace stavby'!AN17="","",'Rekapitulace stavby'!AN17)
D23: Zpracovatel: | I23: IČ: | J23: 62585193
E24: ERMEX ENGINEERING, spol. s r.o. | I24: DIČ: | J24: CZ62585193
D26: Poznámka:
E27: Soupis prací je sestaven s využitím Cenové soustavy ÚRS. Položky, které pochází z této cenové soustavy, jsou ve sloupci 'Cenová soustava' označeny popisem 'CS ÚRS' a úrovní příslušného kalendářního pololetí. Veškeré další informace vymezující popis a podmínky použití těchto položek z Cenové soustavy, které nejsou uvedeny přímo v soupisu prací, jsou neomezeně dálkově k dispozici na www.cs-urs.cz, sekce Cenové a technické podmínky. Projektant upozorňuje, že cena v KR je platná k datu vydání dokumnentace. Projektant upozorňuje, že ceníkové ceny dle sazebníku URS nemusí odpovídat cenám obvyklím v místě realizace stavby a reálná hodnota se může být vyšší než uvádí KR. Je-li v názvu položky v kontrolním rozpočtu nebo v soupisu prací uvedena v kolonce „Popis“ obchodní značka jakéhokoliv materiálu, výrobku nebo technologie, má tento název pouze informativní charakter. Pro ocenění a následně pro realizaci je možné použít i jiný materiál, výrobek nebo technologii, se srovnatelnými nebo lepšími užitnými vlastnostmi, které odpovídají požadavkům dokumentace. Přesná specifikace materiálu a prací je uvedena v zadávací dokumentaci, která tvoří nedílnou součást rozpočtu. Specifikace materiálů a postupu prací, která je uvedena v technických zprávách, soupisech prací či jinde v zadávací dokumentaci má přednost před popisem položky v rozpočtu (Položky URS nemusí vždy přesně odpovídat požadovanému provedení)
D30: Cena bez DPH | J30: =ROUND(J120, 2) -> 0
F32: Základ daně | I32: Sazba daně | J32: Výše daně
D33: DPH | E33: základní | F33: =ROUND((SUM(BE120:BE131)), 2) -> 0 | I33: 0.21 | J33: =ROUND(((SUM(BE120:BE131))*I33), 2) -> 0
E34: snížená | F34: =ROUND((SUM(BF120:BF131)), 2) -> 0 | I34: 0.12 | J34: =ROUND(((SUM(BF120:BF131))*I34), 2) -> 0
E35: zákl. přenesená | F35: =ROUND((SUM(BG120:BG131)), 2) -> 0 | I35: 0.21 | J35: =0 -> 0
E36: sníž. přenesená | F36: =ROUND((SUM(BH120:BH131)), 2) -> 0 | I36: 0.12 | J36: =0 -> 0
E37: nulová | F37: =ROUND((SUM(BI120:BI131)), 2) -> 0 | I37: 0 | J37: =0 -> 0
D39: Cena s DPH | G39: v | H39: CZK | J39: =SUM(J30:J37) -> 0
D50: Projektant | G50: Zpracovatel
D61: Datum a podpis: | F61: Razítko | G61: Datum a podpis: | J61: Razítko
D65: Objednavatel | G65: Uchazeč
D76: Datum a podpis: | F76: Razítko | G76: Datum a podpis: | J76: Razítko
C82: REKAPITULACE ČLENĚNÍ SOUPISU PRACÍ
C84: Stavba:
E85: =E7 -> Rekonstrukce ČSOV Zeleneč
C86: Objekt:
E87: =E9 -> ON - Ostatní náklady
C89: Místo: | F89: =F12 -> ulice Olšová, Zeleneč | I89: Datum: | J89: =IF(J12="","",J12) -> 19. 10. 2025
C91: Zadavatel: | F91: =E15 -> OBEC ZELENEČ | I91: Projektant: | J91: =E21
C92: Uchazeč: | F92: =IF(E18="","",E18) -> Vyplň údaj | I92: Zpracovatel: | J92: =E24 -> ERMEX ENGINEERING, spol. s r.o.
C94: Kód dílu - Popis | J94: Cena celkem [CZK]
C96: Náklady ze soupisu prací | J96: =J120 -> 0 | AU96: -1
D97: OS - Ostatní náklady | J97: =J121 -> 0
D98: VRN1 - Průzkumné, geodetické a projektové práce | J98: =J122 -> 0
D99: VRN4 - Inženýrská činnost | J99: =J126 -> 0
D100: VRN9 - Ostatní náklady | J100: =J129 -> 0
C107: SOUPIS PRACÍ
C109: Stavba:
E110: =E7 -> Rekonstrukce ČSOV Zeleneč
C111: Objekt:
E112: =E9 -> ON - Ostatní náklady
C114: Místo: | F114: =F12 -> ulice Olšová, Zeleneč | I114: Datum: | J114: =IF(J12="","",J12) -> 19. 10. 2025
C116: Zadavatel: | F116: =E15 -> OBEC ZELENEČ | I116: Projektant: | J116: =E21
C117: Uchazeč: | F117: =IF(E18="","",E18) -> Vyplň údaj | I117: Zpracovatel: | J117: =E24 -> ERMEX ENGINEERING, spol. s r.o.
C119: PČ | D119: Typ | E119: Kód | F119: Popis | G119: MJ | H119: Množství | I119: J.cena [CZK] | J119: Cena celkem [CZK] | K119: Cenová soustava | N119: DPH | O119: J. Nh [h] | P119: Nh celkem [h] | Q119: J. hmotnost [t] | R119: Hmotnost celkem [t] | S119: J. suť [t] | T119: Suť Celkem [t]
C120: Náklady soupisu celkem | J120: =BK120 -> 0 | P120: =P121 -> 0 | R120: =R121 -> 0 | T120: =T121 -> 0 | AT120: D | AU120: -1 | BK120: =BK121 -> 0
D121: D | E121: OS | F121: Ostatní náklady | J121: =BK121 -> 0 | P121: =P122+P126+P129 -> 0 | R121: =R122+R126+R129 -> 0 | T121: =T122+T126+T129 -> 0 | AR121: 5 | AT121: D | AU121: 0 | AY121: ROZPOCET | BK121: =BK122+BK126+BK129 -> 0
D122: D | E122: VRN1 | F122: Průzkumné, geodetické a projektové práce | J122: =BK122 -> 0 | P122: =SUM(P123:P125) -> 0 | R122: =SUM(R123:R125) -> 0 | T122: =SUM(T123:T125) -> 0 | AR122: 5 | AT122: D | AU122: 1 | AY122: ROZPOCET | BK122: =SUM(BK123:BK125) -> 0
C123: 1 | D123: K | E123: 013203000 | F123: Náklady na dopracování detailů RDS | G123: kpl | H123: 1 | J123: =ROUND(I123*H123,2) -> 0 | N123: základní | P123: =O123*H123 -> 0 | Q123: 0 | R123: =Q123*H123 -> 0 | S123: 0 | T123: =S123*H123 -> 0 | AR123: 1024 | AT123: K | AU123: 2 | AY123: ROZPOCET | BE123: =IF(N123="základní",J123,0) -> 0 | BF123: =IF(N123="snížená",J123,0) -> 0 | BG123: =IF(N123="zákl. přenesená",J123,0) -> 0 | BH123: =IF(N123="sníž. přenesená",J123,0) -> 0 | BI123: =IF(N123="nulová",J123,0) -> 0 | BJ123: 1 | BK123: =ROUND(I123*H123,2) -> 0 | BL123: 1024 | BM123: -98389792
C124: 2 | D124: K | E124: 013254000 | F124: Dokumentace skutečného provedení stavby včetně geodetického zaměření | G124: kpl | H124: 1 | J124: =ROUND(I124*H124,2) -> 0 | N124: základní | P124: =O124*H124 -> 0 | Q124: 0 | R124: =Q124*H124 -> 0 | S124: 0 | T124: =S124*H124 -> 0 | AR124: 1024 | AT124: K | AU124: 2 | AY124: ROZPOCET | BE124: =IF(N124="základní",J124,0) -> 0 | BF124: =IF(N124="snížená",J124,0) -> 0 | BG124: =IF(N124="zákl. přenesená",J124,0) -> 0 | BH124: =IF(N124="sníž. přenesená",J124,0) -> 0 | BI124: =IF(N124="nulová",J124,0) -> 0 | BJ124: 1 | BK124: =ROUND(I124*H124,2) -> 0 | BL124: 1024 | BM124: 521201491
C125: 3 | D125: K | E125: 013254001 | F125: Průvodní technická dokumnetace stavby vč. revizí, protokolů, návodů atd. | G125: kpl | H125: 1 | J125: =ROUND(I125*H125,2) -> 0 | N125: základní | P125: =O125*H125 -> 0 | Q125: 0 | R125: =Q125*H125 -> 0 | S125: 0 | T125: =S125*H125 -> 0 | AR125: 1024 | AT125: K | AU125: 2 | AY125: ROZPOCET | BE125: =IF(N125="základní",J125,0) -> 0 | BF125: =IF(N125="snížená",J125,0) -> 0 | BG125: =IF(N125="zákl. přenesená",J125,0) -> 0 | BH125: =IF(N125="sníž. přenesená",J125,0) -> 0 | BI125: =IF(N125="nulová",J125,0) -> 0 | BJ125: 1 | BK125: =ROUND(I125*H125,2) -> 0 | BL125: 1024 | BM125: 724082757
D126: D | E126: VRN4 | F126: Inženýrská činnost | J126: =BK126 -> 0 | P126: =SUM(P127:P128) -> 0 | R126: =SUM(R127:R128) -> 0 | T126: =SUM(T127:T128) -> 0 | AR126: 5 | AT126: D | AU126: 1 | AY126: ROZPOCET | BK126: =SUM(BK127:BK128) -> 0
C127: 4 | D127: K | E127: 043103021 | F127: Individuální a ostatní zkoušky | G127: kpl | H127: 1 | J127: =ROUND(I127*H127,2) -> 0 | N127: základní | P127: =O127*H127 -> 0 | Q127: 0 | R127: =Q127*H127 -> 0 | S127: 0 | T127: =S127*H127 -> 0 | AR127: 1024 | AT127: K | AU127: 2 | AY127: ROZPOCET | BE127: =IF(N127="základní",J127,0) -> 0 | BF127: =IF(N127="snížená",J127,0) -> 0 | BG127: =IF(N127="zákl. přenesená",J127,0) -> 0 | BH127: =IF(N127="sníž. přenesená",J127,0) -> 0 | BI127: =IF(N127="nulová",J127,0) -> 0 | BJ127: 1 | BK127: =ROUND(I127*H127,2) -> 0 | BL127: 1024 | BM127: -1337397793
C128: 5 | D128: K | E128: 045203000 | F128: Kompletační činnost | G128: kpl | H128: 1 | J128: =ROUND(I128*H128,2) -> 0 | N128: základní | P128: =O128*H128 -> 0 | Q128: 0 | R128: =Q128*H128 -> 0 | S128: 0 | T128: =S128*H128 -> 0 | AR128: 1024 | AT128: K | AU128: 2 | AY128: ROZPOCET | BE128: =IF(N128="základní",J128,0) -> 0 | BF128: =IF(N128="snížená",J128,0) -> 0 | BG128: =IF(N128="zákl. přenesená",J128,0) -> 0 | BH128: =IF(N128="sníž. přenesená",J128,0) -> 0 | BI128: =IF(N128="nulová",J128,0) -> 0 | BJ128: 1 | BK128: =ROUND(I128*H128,2) -> 0 | BL128: 1024 | BM128: 1123773125
D129: D | E129: VRN9 | F129: Ostatní náklady | J129: =BK129 -> 0 | P129: =SUM(P130:P131) -> 0 | R129: =SUM(R130:R131) -> 0 | T129: =SUM(T130:T131) -> 0 | AR129: 5 | AT129: D | AU129: 1 | AY129: ROZPOCET | BK129: =SUM(BK130:BK131) -> 0
C130: 6 | D130: K | E130: 092203000 | F130: Zaškolení obsluhy | G130: kpl | H130: 1 | J130: =ROUND(I130*H130,2) -> 0 | N130: základní | P130: =O130*H130 -> 0 | Q130: 0 | R130: =Q130*H130 -> 0 | S130: 0 | T130: =S130*H130 -> 0 | AR130: 1024 | AT130: K | AU130: 2 | AY130: ROZPOCET | BE130: =IF(N130="základní",J130,0) -> 0 | BF130: =IF(N130="snížená",J130,0) -> 0 | BG130: =IF(N130="zákl. přenesená",J130,0) -> 0 | BH130: =IF(N130="sníž. přenesená",J130,0) -> 0 | BI130: =IF(N130="nulová",J130,0) -> 0 | BJ130: 1 | BK130: =ROUND(I130*H130,2) -> 0 | BL130: 1024 | BM130: -792239784
C131: 7 | D131: K | E131: 092203000R | F131: Návrh úpravy provozního řádu | G131: kpl | H131: 1 | J131: =ROUND(I131*H131,2) -> 0 | N131: základní | P131: =O131*H131 -> 0 | Q131: 0 | R131: =Q131*H131 -> 0 | S131: 0 | T131: =S131*H131 -> 0 | AR131: 1024 | AT131: K | AU131: 2 | AY131: ROZPOCET | BE131: =IF(N131="základní",J131,0) -> 0 | BF131: =IF(N131="snížená",J131,0) -> 0 | BG131: =IF(N131="zákl. přenesená",J131,0) -> 0 | BH131: =IF(N131="sníž. přenesená",J131,0) -> 0 | BI131: =IF(N131="nulová",J131,0) -> 0 | BJ131: 1 | BK131: =ROUND(I131*H131,2) -> 0 | BL131: 1024 | BM131: 432679051
